BEGIN:VCALENDAR
VERSION:2.0
PRODID:-//Cabarrus Brewing Co. - ECPv6.10.2//NONSGML v1.0//EN
CALSCALE:GREGORIAN
METHOD:PUBLISH
X-WR-CALNAME:Cabarrus Brewing Co.
X-ORIGINAL-URL:https://www.cabarrusbrewing.com
X-WR-CALDESC:Events for Cabarrus Brewing Co.
REFRESH-INTERVAL;VALUE=DURATION:PT1H
X-Robots-Tag:noindex
X-PUBLISHED-TTL:PT1H
BEGIN:VTIMEZONE
TZID:UTC
BEGIN:STANDARD
TZOFFSETFROM:+0000
TZOFFSETTO:+0000
TZNAME:UTC
DTSTART:20310101T000000
END:STANDARD
END:VTIMEZONE
BEGIN:VEVENT
DTSTART;TZID=UTC:20310303T184500
DTEND;TZID=UTC:20310303T204500
DTSTAMP:20260425T000925
CREATED:20260119T143242Z
LAST-MODIFIED:20260311T142525Z
UID:10002843-1930329900-1930337100@www.cabarrusbrewing.com
SUMMARY:Music Bingo
DESCRIPTION:6:45pm to 8:45pm every Monday in the taproom! \n  \nChances for prizes every week!
URL:https://www.cabarrusbrewing.com/event/music-bingo-2/2031-03-03/
LOCATION:Cabarrus Brewing Co.
END:VEVENT
BEGIN:VEVENT
DTSTART;TZID=UTC:20310305T183000
DTEND;TZID=UTC:20310305T210000
DTSTAMP:20260425T000925
CREATED:20260323T194527Z
LAST-MODIFIED:20260325T175902Z
UID:10003102-1930501800-1930510800@www.cabarrusbrewing.com
SUMMARY:Bike Night
DESCRIPTION:Bike Night is back \n\n\n\nJoin us every Wednesday starting April 1st\, 6:30pm-9pm.\n\n\n\nWarm weather\, cold beer\, and good times ahead.\n\n\n\n\n\nProudly supported by Steel Rain MC!
URL:https://www.cabarrusbrewing.com/event/bike-night/2031-03-05/
LOCATION:Cabarrus Brewing Co.
END:VEVENT
BEGIN:VEVENT
DTSTART;TZID=UTC:20310310T184500
DTEND;TZID=UTC:20310310T204500
DTSTAMP:20260425T000925
CREATED:20260119T143242Z
LAST-MODIFIED:20260311T142525Z
UID:10002844-1930934700-1930941900@www.cabarrusbrewing.com
SUMMARY:Music Bingo
DESCRIPTION:6:45pm to 8:45pm every Monday in the taproom! \n  \nChances for prizes every week!
URL:https://www.cabarrusbrewing.com/event/music-bingo-2/2031-03-10/
LOCATION:Cabarrus Brewing Co.
END:VEVENT
BEGIN:VEVENT
DTSTART;TZID=UTC:20310312T183000
DTEND;TZID=UTC:20310312T210000
DTSTAMP:20260425T000925
CREATED:20260323T194527Z
LAST-MODIFIED:20260325T175902Z
UID:10003103-1931106600-1931115600@www.cabarrusbrewing.com
SUMMARY:Bike Night
DESCRIPTION:Bike Night is back \n\n\n\nJoin us every Wednesday starting April 1st\, 6:30pm-9pm.\n\n\n\nWarm weather\, cold beer\, and good times ahead.\n\n\n\n\n\nProudly supported by Steel Rain MC!
URL:https://www.cabarrusbrewing.com/event/bike-night/2031-03-12/
LOCATION:Cabarrus Brewing Co.
END:VEVENT
BEGIN:VEVENT
DTSTART;TZID=UTC:20310319T183000
DTEND;TZID=UTC:20310319T210000
DTSTAMP:20260425T000925
CREATED:20260323T194527Z
LAST-MODIFIED:20260325T175902Z
UID:10003104-1931711400-1931720400@www.cabarrusbrewing.com
SUMMARY:Bike Night
DESCRIPTION:Bike Night is back \n\n\n\nJoin us every Wednesday starting April 1st\, 6:30pm-9pm.\n\n\n\nWarm weather\, cold beer\, and good times ahead.\n\n\n\n\n\nProudly supported by Steel Rain MC!
URL:https://www.cabarrusbrewing.com/event/bike-night/2031-03-19/
LOCATION:Cabarrus Brewing Co.
END:VEVENT
END:VCALENDAR