BEGIN:VCALENDAR
VERSION:2.0
PRODID:-//Cabarrus Brewing Co. - ECPv6.10.2//NONSGML v1.0//EN
CALSCALE:GREGORIAN
METHOD:PUBLISH
X-WR-CALNAME:Cabarrus Brewing Co.
X-ORIGINAL-URL:https://www.cabarrusbrewing.com
X-WR-CALDESC:Events for Cabarrus Brewing Co.
REFRESH-INTERVAL;VALUE=DURATION:PT1H
X-Robots-Tag:noindex
X-PUBLISHED-TTL:PT1H
BEGIN:VTIMEZONE
TZID:UTC
BEGIN:STANDARD
TZOFFSETFROM:+0000
TZOFFSETTO:+0000
TZNAME:UTC
DTSTART:20310101T000000
END:STANDARD
END:VTIMEZONE
BEGIN:VEVENT
DTSTART;TZID=UTC:20310203T184500
DTEND;TZID=UTC:20310203T204500
DTSTAMP:20260424T222754
CREATED:20260119T143242Z
LAST-MODIFIED:20260311T142525Z
UID:10002839-1927910700-1927917900@www.cabarrusbrewing.com
SUMMARY:Music Bingo
DESCRIPTION:6:45pm to 8:45pm every Monday in the taproom! \n  \nChances for prizes every week!
URL:https://www.cabarrusbrewing.com/event/music-bingo-2/2031-02-03/
LOCATION:Cabarrus Brewing Co.
END:VEVENT
BEGIN:VEVENT
DTSTART;TZID=UTC:20310205T183000
DTEND;TZID=UTC:20310205T210000
DTSTAMP:20260424T222754
CREATED:20260323T194527Z
LAST-MODIFIED:20260325T175902Z
UID:10003098-1928082600-1928091600@www.cabarrusbrewing.com
SUMMARY:Bike Night
DESCRIPTION:Bike Night is back \n\n\n\nJoin us every Wednesday starting April 1st\, 6:30pm-9pm.\n\n\n\nWarm weather\, cold beer\, and good times ahead.\n\n\n\n\n\nProudly supported by Steel Rain MC!
URL:https://www.cabarrusbrewing.com/event/bike-night/2031-02-05/
LOCATION:Cabarrus Brewing Co.
END:VEVENT
BEGIN:VEVENT
DTSTART;TZID=UTC:20310210T184500
DTEND;TZID=UTC:20310210T204500
DTSTAMP:20260424T222754
CREATED:20260119T143242Z
LAST-MODIFIED:20260311T142525Z
UID:10002840-1928515500-1928522700@www.cabarrusbrewing.com
SUMMARY:Music Bingo
DESCRIPTION:6:45pm to 8:45pm every Monday in the taproom! \n  \nChances for prizes every week!
URL:https://www.cabarrusbrewing.com/event/music-bingo-2/2031-02-10/
LOCATION:Cabarrus Brewing Co.
END:VEVENT
BEGIN:VEVENT
DTSTART;TZID=UTC:20310212T183000
DTEND;TZID=UTC:20310212T210000
DTSTAMP:20260424T222754
CREATED:20260323T194527Z
LAST-MODIFIED:20260325T175902Z
UID:10003099-1928687400-1928696400@www.cabarrusbrewing.com
SUMMARY:Bike Night
DESCRIPTION:Bike Night is back \n\n\n\nJoin us every Wednesday starting April 1st\, 6:30pm-9pm.\n\n\n\nWarm weather\, cold beer\, and good times ahead.\n\n\n\n\n\nProudly supported by Steel Rain MC!
URL:https://www.cabarrusbrewing.com/event/bike-night/2031-02-12/
LOCATION:Cabarrus Brewing Co.
END:VEVENT
BEGIN:VEVENT
DTSTART;TZID=UTC:20310217T184500
DTEND;TZID=UTC:20310217T204500
DTSTAMP:20260424T222754
CREATED:20260119T143242Z
LAST-MODIFIED:20260311T142525Z
UID:10002841-1929120300-1929127500@www.cabarrusbrewing.com
SUMMARY:Music Bingo
DESCRIPTION:6:45pm to 8:45pm every Monday in the taproom! \n  \nChances for prizes every week!
URL:https://www.cabarrusbrewing.com/event/music-bingo-2/2031-02-17/
LOCATION:Cabarrus Brewing Co.
END:VEVENT
BEGIN:VEVENT
DTSTART;TZID=UTC:20310219T183000
DTEND;TZID=UTC:20310219T210000
DTSTAMP:20260424T222754
CREATED:20260323T194527Z
LAST-MODIFIED:20260325T175902Z
UID:10003100-1929292200-1929301200@www.cabarrusbrewing.com
SUMMARY:Bike Night
DESCRIPTION:Bike Night is back \n\n\n\nJoin us every Wednesday starting April 1st\, 6:30pm-9pm.\n\n\n\nWarm weather\, cold beer\, and good times ahead.\n\n\n\n\n\nProudly supported by Steel Rain MC!
URL:https://www.cabarrusbrewing.com/event/bike-night/2031-02-19/
LOCATION:Cabarrus Brewing Co.
END:VEVENT
BEGIN:VEVENT
DTSTART;TZID=UTC:20310224T184500
DTEND;TZID=UTC:20310224T204500
DTSTAMP:20260424T222754
CREATED:20260119T143242Z
LAST-MODIFIED:20260311T142525Z
UID:10002842-1929725100-1929732300@www.cabarrusbrewing.com
SUMMARY:Music Bingo
DESCRIPTION:6:45pm to 8:45pm every Monday in the taproom! \n  \nChances for prizes every week!
URL:https://www.cabarrusbrewing.com/event/music-bingo-2/2031-02-24/
LOCATION:Cabarrus Brewing Co.
END:VEVENT
BEGIN:VEVENT
DTSTART;TZID=UTC:20310226T183000
DTEND;TZID=UTC:20310226T210000
DTSTAMP:20260424T222754
CREATED:20260323T194527Z
LAST-MODIFIED:20260325T175902Z
UID:10003101-1929897000-1929906000@www.cabarrusbrewing.com
SUMMARY:Bike Night
DESCRIPTION:Bike Night is back \n\n\n\nJoin us every Wednesday starting April 1st\, 6:30pm-9pm.\n\n\n\nWarm weather\, cold beer\, and good times ahead.\n\n\n\n\n\nProudly supported by Steel Rain MC!
URL:https://www.cabarrusbrewing.com/event/bike-night/2031-02-26/
LOCATION:Cabarrus Brewing Co.
END:VEVENT
END:VCALENDAR