BEGIN:VCALENDAR
VERSION:2.0
PRODID:-//Cabarrus Brewing Co. - ECPv6.10.2//NONSGML v1.0//EN
CALSCALE:GREGORIAN
METHOD:PUBLISH
X-WR-CALNAME:Cabarrus Brewing Co.
X-ORIGINAL-URL:https://www.cabarrusbrewing.com
X-WR-CALDESC:Events for Cabarrus Brewing Co.
REFRESH-INTERVAL;VALUE=DURATION:PT1H
X-Robots-Tag:noindex
X-PUBLISHED-TTL:PT1H
BEGIN:VTIMEZONE
TZID:UTC
BEGIN:STANDARD
TZOFFSETFROM:+0000
TZOFFSETTO:+0000
TZNAME:UTC
DTSTART:20300101T000000
END:STANDARD
END:VTIMEZONE
BEGIN:VEVENT
DTSTART;TZID=UTC:20301104T184500
DTEND;TZID=UTC:20301104T204500
DTSTAMP:20260424T175602
CREATED:20260119T143242Z
LAST-MODIFIED:20260311T142525Z
UID:10002760-1920048300-1920055500@www.cabarrusbrewing.com
SUMMARY:Music Bingo
DESCRIPTION:6:45pm to 8:45pm every Monday in the taproom! \n  \nChances for prizes every week!
URL:https://www.cabarrusbrewing.com/event/music-bingo-2/2030-11-04/
LOCATION:Cabarrus Brewing Co.
END:VEVENT
BEGIN:VEVENT
DTSTART;TZID=UTC:20301106T183000
DTEND;TZID=UTC:20301106T210000
DTSTAMP:20260424T175602
CREATED:20260323T194527Z
LAST-MODIFIED:20260325T175902Z
UID:10003085-1920220200-1920229200@www.cabarrusbrewing.com
SUMMARY:Bike Night
DESCRIPTION:Bike Night is back \n\n\n\nJoin us every Wednesday starting April 1st\, 6:30pm-9pm.\n\n\n\nWarm weather\, cold beer\, and good times ahead.\n\n\n\n\n\nProudly supported by Steel Rain MC!
URL:https://www.cabarrusbrewing.com/event/bike-night/2030-11-06/
LOCATION:Cabarrus Brewing Co.
END:VEVENT
BEGIN:VEVENT
DTSTART;TZID=UTC:20301111T184500
DTEND;TZID=UTC:20301111T204500
DTSTAMP:20260424T175602
CREATED:20260119T143242Z
LAST-MODIFIED:20260311T142525Z
UID:10002761-1920653100-1920660300@www.cabarrusbrewing.com
SUMMARY:Music Bingo
DESCRIPTION:6:45pm to 8:45pm every Monday in the taproom! \n  \nChances for prizes every week!
URL:https://www.cabarrusbrewing.com/event/music-bingo-2/2030-11-11/
LOCATION:Cabarrus Brewing Co.
END:VEVENT
BEGIN:VEVENT
DTSTART;TZID=UTC:20301113T183000
DTEND;TZID=UTC:20301113T210000
DTSTAMP:20260424T175602
CREATED:20260323T194527Z
LAST-MODIFIED:20260325T175902Z
UID:10003086-1920825000-1920834000@www.cabarrusbrewing.com
SUMMARY:Bike Night
DESCRIPTION:Bike Night is back \n\n\n\nJoin us every Wednesday starting April 1st\, 6:30pm-9pm.\n\n\n\nWarm weather\, cold beer\, and good times ahead.\n\n\n\n\n\nProudly supported by Steel Rain MC!
URL:https://www.cabarrusbrewing.com/event/bike-night/2030-11-13/
LOCATION:Cabarrus Brewing Co.
END:VEVENT
BEGIN:VEVENT
DTSTART;TZID=UTC:20301118T184500
DTEND;TZID=UTC:20301118T204500
DTSTAMP:20260424T175602
CREATED:20260119T143242Z
LAST-MODIFIED:20260311T142525Z
UID:10002762-1921257900-1921265100@www.cabarrusbrewing.com
SUMMARY:Music Bingo
DESCRIPTION:6:45pm to 8:45pm every Monday in the taproom! \n  \nChances for prizes every week!
URL:https://www.cabarrusbrewing.com/event/music-bingo-2/2030-11-18/
LOCATION:Cabarrus Brewing Co.
END:VEVENT
BEGIN:VEVENT
DTSTART;TZID=UTC:20301120T183000
DTEND;TZID=UTC:20301120T210000
DTSTAMP:20260424T175602
CREATED:20260323T194527Z
LAST-MODIFIED:20260325T175902Z
UID:10003087-1921429800-1921438800@www.cabarrusbrewing.com
SUMMARY:Bike Night
DESCRIPTION:Bike Night is back \n\n\n\nJoin us every Wednesday starting April 1st\, 6:30pm-9pm.\n\n\n\nWarm weather\, cold beer\, and good times ahead.\n\n\n\n\n\nProudly supported by Steel Rain MC!
URL:https://www.cabarrusbrewing.com/event/bike-night/2030-11-20/
LOCATION:Cabarrus Brewing Co.
END:VEVENT
BEGIN:VEVENT
DTSTART;TZID=UTC:20301125T184500
DTEND;TZID=UTC:20301125T204500
DTSTAMP:20260424T175602
CREATED:20260119T143242Z
LAST-MODIFIED:20260311T142525Z
UID:10002763-1921862700-1921869900@www.cabarrusbrewing.com
SUMMARY:Music Bingo
DESCRIPTION:6:45pm to 8:45pm every Monday in the taproom! \n  \nChances for prizes every week!
URL:https://www.cabarrusbrewing.com/event/music-bingo-2/2030-11-25/
LOCATION:Cabarrus Brewing Co.
END:VEVENT
BEGIN:VEVENT
DTSTART;TZID=UTC:20301127T183000
DTEND;TZID=UTC:20301127T210000
DTSTAMP:20260424T175602
CREATED:20260323T194527Z
LAST-MODIFIED:20260325T175902Z
UID:10003088-1922034600-1922043600@www.cabarrusbrewing.com
SUMMARY:Bike Night
DESCRIPTION:Bike Night is back \n\n\n\nJoin us every Wednesday starting April 1st\, 6:30pm-9pm.\n\n\n\nWarm weather\, cold beer\, and good times ahead.\n\n\n\n\n\nProudly supported by Steel Rain MC!
URL:https://www.cabarrusbrewing.com/event/bike-night/2030-11-27/
LOCATION:Cabarrus Brewing Co.
END:VEVENT
END:VCALENDAR