BEGIN:VCALENDAR
VERSION:2.0
PRODID:-//Cabarrus Brewing Co. - ECPv6.10.2//NONSGML v1.0//EN
CALSCALE:GREGORIAN
METHOD:PUBLISH
X-WR-CALNAME:Cabarrus Brewing Co.
X-ORIGINAL-URL:https://www.cabarrusbrewing.com
X-WR-CALDESC:Events for Cabarrus Brewing Co.
REFRESH-INTERVAL;VALUE=DURATION:PT1H
X-Robots-Tag:noindex
X-PUBLISHED-TTL:PT1H
BEGIN:VTIMEZONE
TZID:UTC
BEGIN:STANDARD
TZOFFSETFROM:+0000
TZOFFSETTO:+0000
TZNAME:UTC
DTSTART:20300101T000000
END:STANDARD
END:VTIMEZONE
BEGIN:VEVENT
DTSTART;TZID=UTC:20301002T183000
DTEND;TZID=UTC:20301002T210000
DTSTAMP:20260424T161640
CREATED:20260323T194527Z
LAST-MODIFIED:20260325T175902Z
UID:10003080-1917196200-1917205200@www.cabarrusbrewing.com
SUMMARY:Bike Night
DESCRIPTION:Bike Night is back \n\n\n\nJoin us every Wednesday starting April 1st\, 6:30pm-9pm.\n\n\n\nWarm weather\, cold beer\, and good times ahead.\n\n\n\n\n\nProudly supported by Steel Rain MC!
URL:https://www.cabarrusbrewing.com/event/bike-night/2030-10-02/
LOCATION:Cabarrus Brewing Co.
END:VEVENT
BEGIN:VEVENT
DTSTART;TZID=UTC:20301007T184500
DTEND;TZID=UTC:20301007T204500
DTSTAMP:20260424T161640
CREATED:20260119T143242Z
LAST-MODIFIED:20260311T142525Z
UID:10002741-1917629100-1917636300@www.cabarrusbrewing.com
SUMMARY:Music Bingo
DESCRIPTION:6:45pm to 8:45pm every Monday in the taproom! \n  \nChances for prizes every week!
URL:https://www.cabarrusbrewing.com/event/music-bingo-2/2030-10-07/
LOCATION:Cabarrus Brewing Co.
END:VEVENT
BEGIN:VEVENT
DTSTART;TZID=UTC:20301009T183000
DTEND;TZID=UTC:20301009T210000
DTSTAMP:20260424T161640
CREATED:20260323T194527Z
LAST-MODIFIED:20260325T175902Z
UID:10003081-1917801000-1917810000@www.cabarrusbrewing.com
SUMMARY:Bike Night
DESCRIPTION:Bike Night is back \n\n\n\nJoin us every Wednesday starting April 1st\, 6:30pm-9pm.\n\n\n\nWarm weather\, cold beer\, and good times ahead.\n\n\n\n\n\nProudly supported by Steel Rain MC!
URL:https://www.cabarrusbrewing.com/event/bike-night/2030-10-09/
LOCATION:Cabarrus Brewing Co.
END:VEVENT
BEGIN:VEVENT
DTSTART;TZID=UTC:20301014T184500
DTEND;TZID=UTC:20301014T204500
DTSTAMP:20260424T161640
CREATED:20260119T143242Z
LAST-MODIFIED:20260311T142525Z
UID:10002742-1918233900-1918241100@www.cabarrusbrewing.com
SUMMARY:Music Bingo
DESCRIPTION:6:45pm to 8:45pm every Monday in the taproom! \n  \nChances for prizes every week!
URL:https://www.cabarrusbrewing.com/event/music-bingo-2/2030-10-14/
LOCATION:Cabarrus Brewing Co.
END:VEVENT
BEGIN:VEVENT
DTSTART;TZID=UTC:20301016T183000
DTEND;TZID=UTC:20301016T210000
DTSTAMP:20260424T161640
CREATED:20260323T194527Z
LAST-MODIFIED:20260325T175902Z
UID:10003082-1918405800-1918414800@www.cabarrusbrewing.com
SUMMARY:Bike Night
DESCRIPTION:Bike Night is back \n\n\n\nJoin us every Wednesday starting April 1st\, 6:30pm-9pm.\n\n\n\nWarm weather\, cold beer\, and good times ahead.\n\n\n\n\n\nProudly supported by Steel Rain MC!
URL:https://www.cabarrusbrewing.com/event/bike-night/2030-10-16/
LOCATION:Cabarrus Brewing Co.
END:VEVENT
BEGIN:VEVENT
DTSTART;TZID=UTC:20301021T184500
DTEND;TZID=UTC:20301021T204500
DTSTAMP:20260424T161640
CREATED:20260119T143242Z
LAST-MODIFIED:20260311T142525Z
UID:10002743-1918838700-1918845900@www.cabarrusbrewing.com
SUMMARY:Music Bingo
DESCRIPTION:6:45pm to 8:45pm every Monday in the taproom! \n  \nChances for prizes every week!
URL:https://www.cabarrusbrewing.com/event/music-bingo-2/2030-10-21/
LOCATION:Cabarrus Brewing Co.
END:VEVENT
BEGIN:VEVENT
DTSTART;TZID=UTC:20301023T183000
DTEND;TZID=UTC:20301023T210000
DTSTAMP:20260424T161640
CREATED:20260323T194527Z
LAST-MODIFIED:20260325T175902Z
UID:10003083-1919010600-1919019600@www.cabarrusbrewing.com
SUMMARY:Bike Night
DESCRIPTION:Bike Night is back \n\n\n\nJoin us every Wednesday starting April 1st\, 6:30pm-9pm.\n\n\n\nWarm weather\, cold beer\, and good times ahead.\n\n\n\n\n\nProudly supported by Steel Rain MC!
URL:https://www.cabarrusbrewing.com/event/bike-night/2030-10-23/
LOCATION:Cabarrus Brewing Co.
END:VEVENT
BEGIN:VEVENT
DTSTART;TZID=UTC:20301028T184500
DTEND;TZID=UTC:20301028T204500
DTSTAMP:20260424T161640
CREATED:20260119T143242Z
LAST-MODIFIED:20260311T142525Z
UID:10002744-1919443500-1919450700@www.cabarrusbrewing.com
SUMMARY:Music Bingo
DESCRIPTION:6:45pm to 8:45pm every Monday in the taproom! \n  \nChances for prizes every week!
URL:https://www.cabarrusbrewing.com/event/music-bingo-2/2030-10-28/
LOCATION:Cabarrus Brewing Co.
END:VEVENT
BEGIN:VEVENT
DTSTART;TZID=UTC:20301030T183000
DTEND;TZID=UTC:20301030T210000
DTSTAMP:20260424T161640
CREATED:20260323T194527Z
LAST-MODIFIED:20260325T175902Z
UID:10003084-1919615400-1919624400@www.cabarrusbrewing.com
SUMMARY:Bike Night
DESCRIPTION:Bike Night is back \n\n\n\nJoin us every Wednesday starting April 1st\, 6:30pm-9pm.\n\n\n\nWarm weather\, cold beer\, and good times ahead.\n\n\n\n\n\nProudly supported by Steel Rain MC!
URL:https://www.cabarrusbrewing.com/event/bike-night/2030-10-30/
LOCATION:Cabarrus Brewing Co.
END:VEVENT
END:VCALENDAR