BEGIN:VCALENDAR
VERSION:2.0
PRODID:-//Cabarrus Brewing Co. - ECPv6.10.2//NONSGML v1.0//EN
CALSCALE:GREGORIAN
METHOD:PUBLISH
X-ORIGINAL-URL:https://www.cabarrusbrewing.com
X-WR-CALDESC:Events for Cabarrus Brewing Co.
REFRESH-INTERVAL;VALUE=DURATION:PT1H
X-Robots-Tag:noindex
X-PUBLISHED-TTL:PT1H
BEGIN:VTIMEZONE
TZID:UTC
BEGIN:STANDARD
TZOFFSETFROM:+0000
TZOFFSETTO:+0000
TZNAME:UTC
DTSTART:20300101T000000
END:STANDARD
END:VTIMEZONE
BEGIN:VEVENT
DTSTART;TZID=UTC:20300805T184500
DTEND;TZID=UTC:20300805T204500
DTSTAMP:20260424T131301
CREATED:20260119T143242Z
LAST-MODIFIED:20260311T142525Z
UID:10002732-1912185900-1912193100@www.cabarrusbrewing.com
SUMMARY:Music Bingo
DESCRIPTION:6:45pm to 8:45pm every Monday in the taproom! \n  \nChances for prizes every week!
URL:https://www.cabarrusbrewing.com/event/music-bingo-2/2030-08-05/
LOCATION:Cabarrus Brewing Co.
END:VEVENT
BEGIN:VEVENT
DTSTART;TZID=UTC:20300807T183000
DTEND;TZID=UTC:20300807T210000
DTSTAMP:20260424T131301
CREATED:20260323T194527Z
LAST-MODIFIED:20260325T175902Z
UID:10003072-1912357800-1912366800@www.cabarrusbrewing.com
SUMMARY:Bike Night
DESCRIPTION:Bike Night is back \n\n\n\nJoin us every Wednesday starting April 1st\, 6:30pm-9pm.\n\n\n\nWarm weather\, cold beer\, and good times ahead.\n\n\n\n\n\nProudly supported by Steel Rain MC!
URL:https://www.cabarrusbrewing.com/event/bike-night/2030-08-07/
LOCATION:Cabarrus Brewing Co.
END:VEVENT
BEGIN:VEVENT
DTSTART;TZID=UTC:20300812T184500
DTEND;TZID=UTC:20300812T204500
DTSTAMP:20260424T131301
CREATED:20260119T143242Z
LAST-MODIFIED:20260311T142525Z
UID:10002733-1912790700-1912797900@www.cabarrusbrewing.com
SUMMARY:Music Bingo
DESCRIPTION:6:45pm to 8:45pm every Monday in the taproom! \n  \nChances for prizes every week!
URL:https://www.cabarrusbrewing.com/event/music-bingo-2/2030-08-12/
LOCATION:Cabarrus Brewing Co.
END:VEVENT
BEGIN:VEVENT
DTSTART;TZID=UTC:20300814T183000
DTEND;TZID=UTC:20300814T210000
DTSTAMP:20260424T131301
CREATED:20260323T194527Z
LAST-MODIFIED:20260325T175902Z
UID:10003073-1912962600-1912971600@www.cabarrusbrewing.com
SUMMARY:Bike Night
DESCRIPTION:Bike Night is back \n\n\n\nJoin us every Wednesday starting April 1st\, 6:30pm-9pm.\n\n\n\nWarm weather\, cold beer\, and good times ahead.\n\n\n\n\n\nProudly supported by Steel Rain MC!
URL:https://www.cabarrusbrewing.com/event/bike-night/2030-08-14/
LOCATION:Cabarrus Brewing Co.
END:VEVENT
BEGIN:VEVENT
DTSTART;TZID=UTC:20300819T184500
DTEND;TZID=UTC:20300819T204500
DTSTAMP:20260424T131301
CREATED:20260119T143242Z
LAST-MODIFIED:20260311T142525Z
UID:10002734-1913395500-1913402700@www.cabarrusbrewing.com
SUMMARY:Music Bingo
DESCRIPTION:6:45pm to 8:45pm every Monday in the taproom! \n  \nChances for prizes every week!
URL:https://www.cabarrusbrewing.com/event/music-bingo-2/2030-08-19/
LOCATION:Cabarrus Brewing Co.
END:VEVENT
BEGIN:VEVENT
DTSTART;TZID=UTC:20300821T183000
DTEND;TZID=UTC:20300821T210000
DTSTAMP:20260424T131301
CREATED:20260323T194527Z
LAST-MODIFIED:20260325T175902Z
UID:10003074-1913567400-1913576400@www.cabarrusbrewing.com
SUMMARY:Bike Night
DESCRIPTION:Bike Night is back \n\n\n\nJoin us every Wednesday starting April 1st\, 6:30pm-9pm.\n\n\n\nWarm weather\, cold beer\, and good times ahead.\n\n\n\n\n\nProudly supported by Steel Rain MC!
URL:https://www.cabarrusbrewing.com/event/bike-night/2030-08-21/
LOCATION:Cabarrus Brewing Co.
END:VEVENT
BEGIN:VEVENT
DTSTART;TZID=UTC:20300826T184500
DTEND;TZID=UTC:20300826T204500
DTSTAMP:20260424T131301
CREATED:20260119T143242Z
LAST-MODIFIED:20260311T142525Z
UID:10002735-1914000300-1914007500@www.cabarrusbrewing.com
SUMMARY:Music Bingo
DESCRIPTION:6:45pm to 8:45pm every Monday in the taproom! \n  \nChances for prizes every week!
URL:https://www.cabarrusbrewing.com/event/music-bingo-2/2030-08-26/
LOCATION:Cabarrus Brewing Co.
END:VEVENT
BEGIN:VEVENT
DTSTART;TZID=UTC:20300828T183000
DTEND;TZID=UTC:20300828T210000
DTSTAMP:20260424T131301
CREATED:20260323T194527Z
LAST-MODIFIED:20260325T175902Z
UID:10003075-1914172200-1914181200@www.cabarrusbrewing.com
SUMMARY:Bike Night
DESCRIPTION:Bike Night is back \n\n\n\nJoin us every Wednesday starting April 1st\, 6:30pm-9pm.\n\n\n\nWarm weather\, cold beer\, and good times ahead.\n\n\n\n\n\nProudly supported by Steel Rain MC!
URL:https://www.cabarrusbrewing.com/event/bike-night/2030-08-28/
LOCATION:Cabarrus Brewing Co.
END:VEVENT
END:VCALENDAR