BEGIN:VCALENDAR
VERSION:2.0
PRODID:-//Cabarrus Brewing Co. - ECPv6.10.2//NONSGML v1.0//EN
CALSCALE:GREGORIAN
METHOD:PUBLISH
X-WR-CALNAME:Cabarrus Brewing Co.
X-ORIGINAL-URL:https://www.cabarrusbrewing.com
X-WR-CALDESC:Events for Cabarrus Brewing Co.
REFRESH-INTERVAL;VALUE=DURATION:PT1H
X-Robots-Tag:noindex
X-PUBLISHED-TTL:PT1H
BEGIN:VTIMEZONE
TZID:UTC
BEGIN:STANDARD
TZOFFSETFROM:+0000
TZOFFSETTO:+0000
TZNAME:UTC
DTSTART:20300101T000000
END:STANDARD
END:VTIMEZONE
BEGIN:VEVENT
DTSTART;TZID=UTC:20300401T184500
DTEND;TZID=UTC:20300401T204500
DTSTAMP:20260424T064658
CREATED:20260119T143242Z
LAST-MODIFIED:20260311T142525Z
UID:10002714-1901299500-1901306700@www.cabarrusbrewing.com
SUMMARY:Music Bingo
DESCRIPTION:6:45pm to 8:45pm every Monday in the taproom! \n  \nChances for prizes every week!
URL:https://www.cabarrusbrewing.com/event/music-bingo-2/2030-04-01/
LOCATION:Cabarrus Brewing Co.
END:VEVENT
BEGIN:VEVENT
DTSTART;TZID=UTC:20300403T183000
DTEND;TZID=UTC:20300403T210000
DTSTAMP:20260424T064658
CREATED:20260323T194527Z
LAST-MODIFIED:20260325T175902Z
UID:10003054-1901471400-1901480400@www.cabarrusbrewing.com
SUMMARY:Bike Night
DESCRIPTION:Bike Night is back \n\n\n\nJoin us every Wednesday starting April 1st\, 6:30pm-9pm.\n\n\n\nWarm weather\, cold beer\, and good times ahead.\n\n\n\n\n\nProudly supported by Steel Rain MC!
URL:https://www.cabarrusbrewing.com/event/bike-night/2030-04-03/
LOCATION:Cabarrus Brewing Co.
END:VEVENT
BEGIN:VEVENT
DTSTART;TZID=UTC:20300408T184500
DTEND;TZID=UTC:20300408T204500
DTSTAMP:20260424T064658
CREATED:20260119T143242Z
LAST-MODIFIED:20260311T142525Z
UID:10002715-1901904300-1901911500@www.cabarrusbrewing.com
SUMMARY:Music Bingo
DESCRIPTION:6:45pm to 8:45pm every Monday in the taproom! \n  \nChances for prizes every week!
URL:https://www.cabarrusbrewing.com/event/music-bingo-2/2030-04-08/
LOCATION:Cabarrus Brewing Co.
END:VEVENT
BEGIN:VEVENT
DTSTART;TZID=UTC:20300410T183000
DTEND;TZID=UTC:20300410T210000
DTSTAMP:20260424T064658
CREATED:20260323T194527Z
LAST-MODIFIED:20260325T175902Z
UID:10003055-1902076200-1902085200@www.cabarrusbrewing.com
SUMMARY:Bike Night
DESCRIPTION:Bike Night is back \n\n\n\nJoin us every Wednesday starting April 1st\, 6:30pm-9pm.\n\n\n\nWarm weather\, cold beer\, and good times ahead.\n\n\n\n\n\nProudly supported by Steel Rain MC!
URL:https://www.cabarrusbrewing.com/event/bike-night/2030-04-10/
LOCATION:Cabarrus Brewing Co.
END:VEVENT
BEGIN:VEVENT
DTSTART;TZID=UTC:20300415T184500
DTEND;TZID=UTC:20300415T204500
DTSTAMP:20260424T064658
CREATED:20260119T143242Z
LAST-MODIFIED:20260311T142525Z
UID:10002716-1902509100-1902516300@www.cabarrusbrewing.com
SUMMARY:Music Bingo
DESCRIPTION:6:45pm to 8:45pm every Monday in the taproom! \n  \nChances for prizes every week!
URL:https://www.cabarrusbrewing.com/event/music-bingo-2/2030-04-15/
LOCATION:Cabarrus Brewing Co.
END:VEVENT
BEGIN:VEVENT
DTSTART;TZID=UTC:20300417T183000
DTEND;TZID=UTC:20300417T210000
DTSTAMP:20260424T064658
CREATED:20260323T194527Z
LAST-MODIFIED:20260325T175902Z
UID:10003056-1902681000-1902690000@www.cabarrusbrewing.com
SUMMARY:Bike Night
DESCRIPTION:Bike Night is back \n\n\n\nJoin us every Wednesday starting April 1st\, 6:30pm-9pm.\n\n\n\nWarm weather\, cold beer\, and good times ahead.\n\n\n\n\n\nProudly supported by Steel Rain MC!
URL:https://www.cabarrusbrewing.com/event/bike-night/2030-04-17/
LOCATION:Cabarrus Brewing Co.
END:VEVENT
BEGIN:VEVENT
DTSTART;TZID=UTC:20300422T184500
DTEND;TZID=UTC:20300422T204500
DTSTAMP:20260424T064658
CREATED:20260119T143242Z
LAST-MODIFIED:20260311T142525Z
UID:10002717-1903113900-1903121100@www.cabarrusbrewing.com
SUMMARY:Music Bingo
DESCRIPTION:6:45pm to 8:45pm every Monday in the taproom! \n  \nChances for prizes every week!
URL:https://www.cabarrusbrewing.com/event/music-bingo-2/2030-04-22/
LOCATION:Cabarrus Brewing Co.
END:VEVENT
BEGIN:VEVENT
DTSTART;TZID=UTC:20300424T183000
DTEND;TZID=UTC:20300424T210000
DTSTAMP:20260424T064658
CREATED:20260323T194527Z
LAST-MODIFIED:20260325T175902Z
UID:10003057-1903285800-1903294800@www.cabarrusbrewing.com
SUMMARY:Bike Night
DESCRIPTION:Bike Night is back \n\n\n\nJoin us every Wednesday starting April 1st\, 6:30pm-9pm.\n\n\n\nWarm weather\, cold beer\, and good times ahead.\n\n\n\n\n\nProudly supported by Steel Rain MC!
URL:https://www.cabarrusbrewing.com/event/bike-night/2030-04-24/
LOCATION:Cabarrus Brewing Co.
END:VEVENT
BEGIN:VEVENT
DTSTART;TZID=UTC:20300429T184500
DTEND;TZID=UTC:20300429T204500
DTSTAMP:20260424T064658
CREATED:20260119T143242Z
LAST-MODIFIED:20260311T142525Z
UID:10002718-1903718700-1903725900@www.cabarrusbrewing.com
SUMMARY:Music Bingo
DESCRIPTION:6:45pm to 8:45pm every Monday in the taproom! \n  \nChances for prizes every week!
URL:https://www.cabarrusbrewing.com/event/music-bingo-2/2030-04-29/
LOCATION:Cabarrus Brewing Co.
END:VEVENT
END:VCALENDAR