BEGIN:VCALENDAR
VERSION:2.0
PRODID:-//Cabarrus Brewing Co. - ECPv6.10.2//NONSGML v1.0//EN
CALSCALE:GREGORIAN
METHOD:PUBLISH
X-ORIGINAL-URL:https://www.cabarrusbrewing.com
X-WR-CALDESC:Events for Cabarrus Brewing Co.
REFRESH-INTERVAL;VALUE=DURATION:PT1H
X-Robots-Tag:noindex
X-PUBLISHED-TTL:PT1H
BEGIN:VTIMEZONE
TZID:UTC
BEGIN:STANDARD
TZOFFSETFROM:+0000
TZOFFSETTO:+0000
TZNAME:UTC
DTSTART:20290101T000000
END:STANDARD
END:VTIMEZONE
BEGIN:VEVENT
DTSTART;TZID=UTC:20291202T110000
DTEND;TZID=UTC:20291202T120000
DTSTAMP:20260423T235903
CREATED:20250109T152442Z
LAST-MODIFIED:20250109T152628Z
UID:10002222-1890903600-1890907200@www.cabarrusbrewing.com
SUMMARY:Sunday Yoga
DESCRIPTION:Grab a friend and your yoga mat and prepare for an hour of relaxation! Class led by Kat Harmon or one of the Sol Harmony Crew members.  All levels welcome. Class will take place in The Kettle Room during colder months & inclement weather. During the warmer months\, class will take place on the loading doc\, just outside the Kettle Room. \nClass begins at 11:00am. Please arrive with enough time to park and make your way to the space. Class will conclude at 12:00pm. Swing by the Cabarrus Brewing Taproom for a well-deserved drink & treat! Open until 8:00pm. \nInstagram @kat_harmon_Itsooy for more information. \n$10.00 for class. Please pay instructor.
URL:https://www.cabarrusbrewing.com/event/yoga-2-2/2029-12-02/
LOCATION:The Kettle Room
CATEGORIES:Weekly Events
ATTACH;FMTTYPE=image/png:https://www.cabarrusbrewing.com/wp-content/uploads/2023/08/yoga-sunday.png
END:VEVENT
BEGIN:VEVENT
DTSTART;TZID=UTC:20291203T184500
DTEND;TZID=UTC:20291203T204500
DTSTAMP:20260423T235903
CREATED:20260119T143242Z
LAST-MODIFIED:20260311T142525Z
UID:10002697-1891017900-1891025100@www.cabarrusbrewing.com
SUMMARY:Music Bingo
DESCRIPTION:6:45pm to 8:45pm every Monday in the taproom! \n  \nChances for prizes every week!
URL:https://www.cabarrusbrewing.com/event/music-bingo-2/2029-12-03/
LOCATION:Cabarrus Brewing Co.
END:VEVENT
BEGIN:VEVENT
DTSTART;TZID=UTC:20291205T183000
DTEND;TZID=UTC:20291205T210000
DTSTAMP:20260423T235903
CREATED:20260323T194527Z
LAST-MODIFIED:20260325T175902Z
UID:10003037-1891189800-1891198800@www.cabarrusbrewing.com
SUMMARY:Bike Night
DESCRIPTION:Bike Night is back \n\n\n\nJoin us every Wednesday starting April 1st\, 6:30pm-9pm.\n\n\n\nWarm weather\, cold beer\, and good times ahead.\n\n\n\n\n\nProudly supported by Steel Rain MC!
URL:https://www.cabarrusbrewing.com/event/bike-night/2029-12-05/
LOCATION:Cabarrus Brewing Co.
END:VEVENT
BEGIN:VEVENT
DTSTART;TZID=UTC:20291209T110000
DTEND;TZID=UTC:20291209T120000
DTSTAMP:20260423T235903
CREATED:20250109T152442Z
LAST-MODIFIED:20250109T152628Z
UID:10002223-1891508400-1891512000@www.cabarrusbrewing.com
SUMMARY:Sunday Yoga
DESCRIPTION:Grab a friend and your yoga mat and prepare for an hour of relaxation! Class led by Kat Harmon or one of the Sol Harmony Crew members.  All levels welcome. Class will take place in The Kettle Room during colder months & inclement weather. During the warmer months\, class will take place on the loading doc\, just outside the Kettle Room. \nClass begins at 11:00am. Please arrive with enough time to park and make your way to the space. Class will conclude at 12:00pm. Swing by the Cabarrus Brewing Taproom for a well-deserved drink & treat! Open until 8:00pm. \nInstagram @kat_harmon_Itsooy for more information. \n$10.00 for class. Please pay instructor.
URL:https://www.cabarrusbrewing.com/event/yoga-2-2/2029-12-09/
LOCATION:The Kettle Room
CATEGORIES:Weekly Events
ATTACH;FMTTYPE=image/png:https://www.cabarrusbrewing.com/wp-content/uploads/2023/08/yoga-sunday.png
END:VEVENT
BEGIN:VEVENT
DTSTART;TZID=UTC:20291210T184500
DTEND;TZID=UTC:20291210T204500
DTSTAMP:20260423T235903
CREATED:20260119T143242Z
LAST-MODIFIED:20260311T142525Z
UID:10002698-1891622700-1891629900@www.cabarrusbrewing.com
SUMMARY:Music Bingo
DESCRIPTION:6:45pm to 8:45pm every Monday in the taproom! \n  \nChances for prizes every week!
URL:https://www.cabarrusbrewing.com/event/music-bingo-2/2029-12-10/
LOCATION:Cabarrus Brewing Co.
END:VEVENT
BEGIN:VEVENT
DTSTART;TZID=UTC:20291212T183000
DTEND;TZID=UTC:20291212T210000
DTSTAMP:20260423T235903
CREATED:20260323T194527Z
LAST-MODIFIED:20260325T175902Z
UID:10003038-1891794600-1891803600@www.cabarrusbrewing.com
SUMMARY:Bike Night
DESCRIPTION:Bike Night is back \n\n\n\nJoin us every Wednesday starting April 1st\, 6:30pm-9pm.\n\n\n\nWarm weather\, cold beer\, and good times ahead.\n\n\n\n\n\nProudly supported by Steel Rain MC!
URL:https://www.cabarrusbrewing.com/event/bike-night/2029-12-12/
LOCATION:Cabarrus Brewing Co.
END:VEVENT
BEGIN:VEVENT
DTSTART;TZID=UTC:20291216T110000
DTEND;TZID=UTC:20291216T120000
DTSTAMP:20260423T235903
CREATED:20250109T152442Z
LAST-MODIFIED:20250109T152628Z
UID:10002224-1892113200-1892116800@www.cabarrusbrewing.com
SUMMARY:Sunday Yoga
DESCRIPTION:Grab a friend and your yoga mat and prepare for an hour of relaxation! Class led by Kat Harmon or one of the Sol Harmony Crew members.  All levels welcome. Class will take place in The Kettle Room during colder months & inclement weather. During the warmer months\, class will take place on the loading doc\, just outside the Kettle Room. \nClass begins at 11:00am. Please arrive with enough time to park and make your way to the space. Class will conclude at 12:00pm. Swing by the Cabarrus Brewing Taproom for a well-deserved drink & treat! Open until 8:00pm. \nInstagram @kat_harmon_Itsooy for more information. \n$10.00 for class. Please pay instructor.
URL:https://www.cabarrusbrewing.com/event/yoga-2-2/2029-12-16/
LOCATION:The Kettle Room
CATEGORIES:Weekly Events
ATTACH;FMTTYPE=image/png:https://www.cabarrusbrewing.com/wp-content/uploads/2023/08/yoga-sunday.png
END:VEVENT
BEGIN:VEVENT
DTSTART;TZID=UTC:20291217T184500
DTEND;TZID=UTC:20291217T204500
DTSTAMP:20260423T235903
CREATED:20260119T143242Z
LAST-MODIFIED:20260311T142525Z
UID:10002699-1892227500-1892234700@www.cabarrusbrewing.com
SUMMARY:Music Bingo
DESCRIPTION:6:45pm to 8:45pm every Monday in the taproom! \n  \nChances for prizes every week!
URL:https://www.cabarrusbrewing.com/event/music-bingo-2/2029-12-17/
LOCATION:Cabarrus Brewing Co.
END:VEVENT
BEGIN:VEVENT
DTSTART;TZID=UTC:20291219T183000
DTEND;TZID=UTC:20291219T210000
DTSTAMP:20260423T235903
CREATED:20260323T194527Z
LAST-MODIFIED:20260325T175902Z
UID:10003039-1892399400-1892408400@www.cabarrusbrewing.com
SUMMARY:Bike Night
DESCRIPTION:Bike Night is back \n\n\n\nJoin us every Wednesday starting April 1st\, 6:30pm-9pm.\n\n\n\nWarm weather\, cold beer\, and good times ahead.\n\n\n\n\n\nProudly supported by Steel Rain MC!
URL:https://www.cabarrusbrewing.com/event/bike-night/2029-12-19/
LOCATION:Cabarrus Brewing Co.
END:VEVENT
BEGIN:VEVENT
DTSTART;TZID=UTC:20291223T110000
DTEND;TZID=UTC:20291223T120000
DTSTAMP:20260423T235903
CREATED:20250109T152442Z
LAST-MODIFIED:20250109T152628Z
UID:10002225-1892718000-1892721600@www.cabarrusbrewing.com
SUMMARY:Sunday Yoga
DESCRIPTION:Grab a friend and your yoga mat and prepare for an hour of relaxation! Class led by Kat Harmon or one of the Sol Harmony Crew members.  All levels welcome. Class will take place in The Kettle Room during colder months & inclement weather. During the warmer months\, class will take place on the loading doc\, just outside the Kettle Room. \nClass begins at 11:00am. Please arrive with enough time to park and make your way to the space. Class will conclude at 12:00pm. Swing by the Cabarrus Brewing Taproom for a well-deserved drink & treat! Open until 8:00pm. \nInstagram @kat_harmon_Itsooy for more information. \n$10.00 for class. Please pay instructor.
URL:https://www.cabarrusbrewing.com/event/yoga-2-2/2029-12-23/
LOCATION:The Kettle Room
CATEGORIES:Weekly Events
ATTACH;FMTTYPE=image/png:https://www.cabarrusbrewing.com/wp-content/uploads/2023/08/yoga-sunday.png
END:VEVENT
BEGIN:VEVENT
DTSTART;TZID=UTC:20291224T184500
DTEND;TZID=UTC:20291224T204500
DTSTAMP:20260423T235903
CREATED:20260119T143242Z
LAST-MODIFIED:20260311T142525Z
UID:10002700-1892832300-1892839500@www.cabarrusbrewing.com
SUMMARY:Music Bingo
DESCRIPTION:6:45pm to 8:45pm every Monday in the taproom! \n  \nChances for prizes every week!
URL:https://www.cabarrusbrewing.com/event/music-bingo-2/2029-12-24/
LOCATION:Cabarrus Brewing Co.
END:VEVENT
BEGIN:VEVENT
DTSTART;TZID=UTC:20291226T183000
DTEND;TZID=UTC:20291226T210000
DTSTAMP:20260423T235903
CREATED:20260323T194527Z
LAST-MODIFIED:20260325T175902Z
UID:10003040-1893004200-1893013200@www.cabarrusbrewing.com
SUMMARY:Bike Night
DESCRIPTION:Bike Night is back \n\n\n\nJoin us every Wednesday starting April 1st\, 6:30pm-9pm.\n\n\n\nWarm weather\, cold beer\, and good times ahead.\n\n\n\n\n\nProudly supported by Steel Rain MC!
URL:https://www.cabarrusbrewing.com/event/bike-night/2029-12-26/
LOCATION:Cabarrus Brewing Co.
END:VEVENT
BEGIN:VEVENT
DTSTART;TZID=UTC:20291230T110000
DTEND;TZID=UTC:20291230T120000
DTSTAMP:20260423T235903
CREATED:20250109T152442Z
LAST-MODIFIED:20250109T152628Z
UID:10002226-1893322800-1893326400@www.cabarrusbrewing.com
SUMMARY:Sunday Yoga
DESCRIPTION:Grab a friend and your yoga mat and prepare for an hour of relaxation! Class led by Kat Harmon or one of the Sol Harmony Crew members.  All levels welcome. Class will take place in The Kettle Room during colder months & inclement weather. During the warmer months\, class will take place on the loading doc\, just outside the Kettle Room. \nClass begins at 11:00am. Please arrive with enough time to park and make your way to the space. Class will conclude at 12:00pm. Swing by the Cabarrus Brewing Taproom for a well-deserved drink & treat! Open until 8:00pm. \nInstagram @kat_harmon_Itsooy for more information. \n$10.00 for class. Please pay instructor.
URL:https://www.cabarrusbrewing.com/event/yoga-2-2/2029-12-30/
LOCATION:The Kettle Room
CATEGORIES:Weekly Events
ATTACH;FMTTYPE=image/png:https://www.cabarrusbrewing.com/wp-content/uploads/2023/08/yoga-sunday.png
END:VEVENT
BEGIN:VEVENT
DTSTART;TZID=UTC:20291231T184500
DTEND;TZID=UTC:20291231T204500
DTSTAMP:20260423T235903
CREATED:20260119T143242Z
LAST-MODIFIED:20260311T142525Z
UID:10002701-1893437100-1893444300@www.cabarrusbrewing.com
SUMMARY:Music Bingo
DESCRIPTION:6:45pm to 8:45pm every Monday in the taproom! \n  \nChances for prizes every week!
URL:https://www.cabarrusbrewing.com/event/music-bingo-2/2029-12-31/
LOCATION:Cabarrus Brewing Co.
END:VEVENT
END:VCALENDAR