BEGIN:VCALENDAR
VERSION:2.0
PRODID:-//Cabarrus Brewing Co. - ECPv6.10.2//NONSGML v1.0//EN
CALSCALE:GREGORIAN
METHOD:PUBLISH
X-ORIGINAL-URL:https://www.cabarrusbrewing.com
X-WR-CALDESC:Events for Cabarrus Brewing Co.
REFRESH-INTERVAL;VALUE=DURATION:PT1H
X-Robots-Tag:noindex
X-PUBLISHED-TTL:PT1H
BEGIN:VTIMEZONE
TZID:UTC
BEGIN:STANDARD
TZOFFSETFROM:+0000
TZOFFSETTO:+0000
TZNAME:UTC
DTSTART:20270101T000000
END:STANDARD
END:VTIMEZONE
BEGIN:VEVENT
DTSTART;TZID=UTC:20271003T110000
DTEND;TZID=UTC:20271003T120000
DTSTAMP:20260422T012038
CREATED:20250109T152442Z
LAST-MODIFIED:20250109T152628Z
UID:10002109-1822561200-1822564800@www.cabarrusbrewing.com
SUMMARY:Sunday Yoga
DESCRIPTION:Grab a friend and your yoga mat and prepare for an hour of relaxation! Class led by Kat Harmon or one of the Sol Harmony Crew members.  All levels welcome. Class will take place in The Kettle Room during colder months & inclement weather. During the warmer months\, class will take place on the loading doc\, just outside the Kettle Room. \nClass begins at 11:00am. Please arrive with enough time to park and make your way to the space. Class will conclude at 12:00pm. Swing by the Cabarrus Brewing Taproom for a well-deserved drink & treat! Open until 8:00pm. \nInstagram @kat_harmon_Itsooy for more information. \n$10.00 for class. Please pay instructor.
URL:https://www.cabarrusbrewing.com/event/yoga-2-2/2027-10-03/
LOCATION:The Kettle Room
CATEGORIES:Weekly Events
ATTACH;FMTTYPE=image/png:https://www.cabarrusbrewing.com/wp-content/uploads/2023/08/yoga-sunday.png
END:VEVENT
BEGIN:VEVENT
DTSTART;TZID=UTC:20271004T184500
DTEND;TZID=UTC:20271004T204500
DTSTAMP:20260422T012038
CREATED:20260119T143242Z
LAST-MODIFIED:20260311T142525Z
UID:10002584-1822675500-1822682700@www.cabarrusbrewing.com
SUMMARY:Music Bingo
DESCRIPTION:6:45pm to 8:45pm every Monday in the taproom! \n  \nChances for prizes every week!
URL:https://www.cabarrusbrewing.com/event/music-bingo-2/2027-10-04/
LOCATION:Cabarrus Brewing Co.
END:VEVENT
BEGIN:VEVENT
DTSTART;TZID=UTC:20271005T190000
DTEND;TZID=UTC:20271005T200000
DTSTAMP:20260422T012038
CREATED:20240405T150134Z
LAST-MODIFIED:20240405T150223Z
UID:10001675-1822762800-1822766400@www.cabarrusbrewing.com
SUMMARY:Skyfit Fitness Classes
DESCRIPTION:Get ready for a fun and upbeat fitness dance class lead by Cara\, owner and lead coach of Skyfit CLT. \nAll levels are welcome. Classes will take place in The Kettle Room. \nClass begins at 7:00pm. Please arrive with enough time to park and make your way to the space. Class will conclude by 8:00pm. Swing by the Cabarrus Brewing Taproom for a well-deserved drink & meal! Taproom is open until 10:00pm. \n  \nInstagram: skyfitdancefitness \n$15 for class. Please pay Cara.
URL:https://www.cabarrusbrewing.com/event/skyfit-fitness-classes/2027-10-05/
LOCATION:The Kettle Room
CATEGORIES:Weekly Events
ATTACH;FMTTYPE=image/webp:https://www.cabarrusbrewing.com/wp-content/uploads/2024/04/fx-gs.webp
END:VEVENT
BEGIN:VEVENT
DTSTART;TZID=UTC:20271006T183000
DTEND;TZID=UTC:20271006T210000
DTSTAMP:20260422T012038
CREATED:20260323T194527Z
LAST-MODIFIED:20260325T175902Z
UID:10002924-1822847400-1822856400@www.cabarrusbrewing.com
SUMMARY:Bike Night
DESCRIPTION:Bike Night is back \n\n\n\nJoin us every Wednesday starting April 1st\, 6:30pm-9pm.\n\n\n\nWarm weather\, cold beer\, and good times ahead.\n\n\n\n\n\nProudly supported by Steel Rain MC!
URL:https://www.cabarrusbrewing.com/event/bike-night/2027-10-06/
LOCATION:Cabarrus Brewing Co.
END:VEVENT
BEGIN:VEVENT
DTSTART;TZID=UTC:20271010T110000
DTEND;TZID=UTC:20271010T120000
DTSTAMP:20260422T012038
CREATED:20250109T152442Z
LAST-MODIFIED:20250109T152628Z
UID:10002110-1823166000-1823169600@www.cabarrusbrewing.com
SUMMARY:Sunday Yoga
DESCRIPTION:Grab a friend and your yoga mat and prepare for an hour of relaxation! Class led by Kat Harmon or one of the Sol Harmony Crew members.  All levels welcome. Class will take place in The Kettle Room during colder months & inclement weather. During the warmer months\, class will take place on the loading doc\, just outside the Kettle Room. \nClass begins at 11:00am. Please arrive with enough time to park and make your way to the space. Class will conclude at 12:00pm. Swing by the Cabarrus Brewing Taproom for a well-deserved drink & treat! Open until 8:00pm. \nInstagram @kat_harmon_Itsooy for more information. \n$10.00 for class. Please pay instructor.
URL:https://www.cabarrusbrewing.com/event/yoga-2-2/2027-10-10/
LOCATION:The Kettle Room
CATEGORIES:Weekly Events
ATTACH;FMTTYPE=image/png:https://www.cabarrusbrewing.com/wp-content/uploads/2023/08/yoga-sunday.png
END:VEVENT
BEGIN:VEVENT
DTSTART;TZID=UTC:20271011T184500
DTEND;TZID=UTC:20271011T204500
DTSTAMP:20260422T012038
CREATED:20260119T143242Z
LAST-MODIFIED:20260311T142525Z
UID:10002585-1823280300-1823287500@www.cabarrusbrewing.com
SUMMARY:Music Bingo
DESCRIPTION:6:45pm to 8:45pm every Monday in the taproom! \n  \nChances for prizes every week!
URL:https://www.cabarrusbrewing.com/event/music-bingo-2/2027-10-11/
LOCATION:Cabarrus Brewing Co.
END:VEVENT
BEGIN:VEVENT
DTSTART;TZID=UTC:20271012T190000
DTEND;TZID=UTC:20271012T200000
DTSTAMP:20260422T012038
CREATED:20240405T150134Z
LAST-MODIFIED:20240405T150223Z
UID:10001676-1823367600-1823371200@www.cabarrusbrewing.com
SUMMARY:Skyfit Fitness Classes
DESCRIPTION:Get ready for a fun and upbeat fitness dance class lead by Cara\, owner and lead coach of Skyfit CLT. \nAll levels are welcome. Classes will take place in The Kettle Room. \nClass begins at 7:00pm. Please arrive with enough time to park and make your way to the space. Class will conclude by 8:00pm. Swing by the Cabarrus Brewing Taproom for a well-deserved drink & meal! Taproom is open until 10:00pm. \n  \nInstagram: skyfitdancefitness \n$15 for class. Please pay Cara.
URL:https://www.cabarrusbrewing.com/event/skyfit-fitness-classes/2027-10-12/
LOCATION:The Kettle Room
CATEGORIES:Weekly Events
ATTACH;FMTTYPE=image/webp:https://www.cabarrusbrewing.com/wp-content/uploads/2024/04/fx-gs.webp
END:VEVENT
BEGIN:VEVENT
DTSTART;TZID=UTC:20271013T183000
DTEND;TZID=UTC:20271013T210000
DTSTAMP:20260422T012038
CREATED:20260323T194527Z
LAST-MODIFIED:20260325T175902Z
UID:10002925-1823452200-1823461200@www.cabarrusbrewing.com
SUMMARY:Bike Night
DESCRIPTION:Bike Night is back \n\n\n\nJoin us every Wednesday starting April 1st\, 6:30pm-9pm.\n\n\n\nWarm weather\, cold beer\, and good times ahead.\n\n\n\n\n\nProudly supported by Steel Rain MC!
URL:https://www.cabarrusbrewing.com/event/bike-night/2027-10-13/
LOCATION:Cabarrus Brewing Co.
END:VEVENT
BEGIN:VEVENT
DTSTART;TZID=UTC:20271017T110000
DTEND;TZID=UTC:20271017T120000
DTSTAMP:20260422T012038
CREATED:20250109T152442Z
LAST-MODIFIED:20250109T152628Z
UID:10002111-1823770800-1823774400@www.cabarrusbrewing.com
SUMMARY:Sunday Yoga
DESCRIPTION:Grab a friend and your yoga mat and prepare for an hour of relaxation! Class led by Kat Harmon or one of the Sol Harmony Crew members.  All levels welcome. Class will take place in The Kettle Room during colder months & inclement weather. During the warmer months\, class will take place on the loading doc\, just outside the Kettle Room. \nClass begins at 11:00am. Please arrive with enough time to park and make your way to the space. Class will conclude at 12:00pm. Swing by the Cabarrus Brewing Taproom for a well-deserved drink & treat! Open until 8:00pm. \nInstagram @kat_harmon_Itsooy for more information. \n$10.00 for class. Please pay instructor.
URL:https://www.cabarrusbrewing.com/event/yoga-2-2/2027-10-17/
LOCATION:The Kettle Room
CATEGORIES:Weekly Events
ATTACH;FMTTYPE=image/png:https://www.cabarrusbrewing.com/wp-content/uploads/2023/08/yoga-sunday.png
END:VEVENT
BEGIN:VEVENT
DTSTART;TZID=UTC:20271018T184500
DTEND;TZID=UTC:20271018T204500
DTSTAMP:20260422T012038
CREATED:20260119T143242Z
LAST-MODIFIED:20260311T142525Z
UID:10002586-1823885100-1823892300@www.cabarrusbrewing.com
SUMMARY:Music Bingo
DESCRIPTION:6:45pm to 8:45pm every Monday in the taproom! \n  \nChances for prizes every week!
URL:https://www.cabarrusbrewing.com/event/music-bingo-2/2027-10-18/
LOCATION:Cabarrus Brewing Co.
END:VEVENT
BEGIN:VEVENT
DTSTART;TZID=UTC:20271019T190000
DTEND;TZID=UTC:20271019T200000
DTSTAMP:20260422T012038
CREATED:20240405T150134Z
LAST-MODIFIED:20240405T150223Z
UID:10001677-1823972400-1823976000@www.cabarrusbrewing.com
SUMMARY:Skyfit Fitness Classes
DESCRIPTION:Get ready for a fun and upbeat fitness dance class lead by Cara\, owner and lead coach of Skyfit CLT. \nAll levels are welcome. Classes will take place in The Kettle Room. \nClass begins at 7:00pm. Please arrive with enough time to park and make your way to the space. Class will conclude by 8:00pm. Swing by the Cabarrus Brewing Taproom for a well-deserved drink & meal! Taproom is open until 10:00pm. \n  \nInstagram: skyfitdancefitness \n$15 for class. Please pay Cara.
URL:https://www.cabarrusbrewing.com/event/skyfit-fitness-classes/2027-10-19/
LOCATION:The Kettle Room
CATEGORIES:Weekly Events
ATTACH;FMTTYPE=image/webp:https://www.cabarrusbrewing.com/wp-content/uploads/2024/04/fx-gs.webp
END:VEVENT
BEGIN:VEVENT
DTSTART;TZID=UTC:20271020T183000
DTEND;TZID=UTC:20271020T210000
DTSTAMP:20260422T012038
CREATED:20260323T194527Z
LAST-MODIFIED:20260325T175902Z
UID:10002926-1824057000-1824066000@www.cabarrusbrewing.com
SUMMARY:Bike Night
DESCRIPTION:Bike Night is back \n\n\n\nJoin us every Wednesday starting April 1st\, 6:30pm-9pm.\n\n\n\nWarm weather\, cold beer\, and good times ahead.\n\n\n\n\n\nProudly supported by Steel Rain MC!
URL:https://www.cabarrusbrewing.com/event/bike-night/2027-10-20/
LOCATION:Cabarrus Brewing Co.
END:VEVENT
BEGIN:VEVENT
DTSTART;TZID=UTC:20271024T110000
DTEND;TZID=UTC:20271024T120000
DTSTAMP:20260422T012038
CREATED:20250109T152442Z
LAST-MODIFIED:20250109T152628Z
UID:10002112-1824375600-1824379200@www.cabarrusbrewing.com
SUMMARY:Sunday Yoga
DESCRIPTION:Grab a friend and your yoga mat and prepare for an hour of relaxation! Class led by Kat Harmon or one of the Sol Harmony Crew members.  All levels welcome. Class will take place in The Kettle Room during colder months & inclement weather. During the warmer months\, class will take place on the loading doc\, just outside the Kettle Room. \nClass begins at 11:00am. Please arrive with enough time to park and make your way to the space. Class will conclude at 12:00pm. Swing by the Cabarrus Brewing Taproom for a well-deserved drink & treat! Open until 8:00pm. \nInstagram @kat_harmon_Itsooy for more information. \n$10.00 for class. Please pay instructor.
URL:https://www.cabarrusbrewing.com/event/yoga-2-2/2027-10-24/
LOCATION:The Kettle Room
CATEGORIES:Weekly Events
ATTACH;FMTTYPE=image/png:https://www.cabarrusbrewing.com/wp-content/uploads/2023/08/yoga-sunday.png
END:VEVENT
BEGIN:VEVENT
DTSTART;TZID=UTC:20271025T184500
DTEND;TZID=UTC:20271025T204500
DTSTAMP:20260422T012038
CREATED:20260119T143242Z
LAST-MODIFIED:20260311T142525Z
UID:10002587-1824489900-1824497100@www.cabarrusbrewing.com
SUMMARY:Music Bingo
DESCRIPTION:6:45pm to 8:45pm every Monday in the taproom! \n  \nChances for prizes every week!
URL:https://www.cabarrusbrewing.com/event/music-bingo-2/2027-10-25/
LOCATION:Cabarrus Brewing Co.
END:VEVENT
BEGIN:VEVENT
DTSTART;TZID=UTC:20271026T190000
DTEND;TZID=UTC:20271026T200000
DTSTAMP:20260422T012038
CREATED:20240405T150134Z
LAST-MODIFIED:20240405T150223Z
UID:10001678-1824577200-1824580800@www.cabarrusbrewing.com
SUMMARY:Skyfit Fitness Classes
DESCRIPTION:Get ready for a fun and upbeat fitness dance class lead by Cara\, owner and lead coach of Skyfit CLT. \nAll levels are welcome. Classes will take place in The Kettle Room. \nClass begins at 7:00pm. Please arrive with enough time to park and make your way to the space. Class will conclude by 8:00pm. Swing by the Cabarrus Brewing Taproom for a well-deserved drink & meal! Taproom is open until 10:00pm. \n  \nInstagram: skyfitdancefitness \n$15 for class. Please pay Cara.
URL:https://www.cabarrusbrewing.com/event/skyfit-fitness-classes/2027-10-26/
LOCATION:The Kettle Room
CATEGORIES:Weekly Events
ATTACH;FMTTYPE=image/webp:https://www.cabarrusbrewing.com/wp-content/uploads/2024/04/fx-gs.webp
END:VEVENT
BEGIN:VEVENT
DTSTART;TZID=UTC:20271027T183000
DTEND;TZID=UTC:20271027T210000
DTSTAMP:20260422T012038
CREATED:20260323T194527Z
LAST-MODIFIED:20260325T175902Z
UID:10002927-1824661800-1824670800@www.cabarrusbrewing.com
SUMMARY:Bike Night
DESCRIPTION:Bike Night is back \n\n\n\nJoin us every Wednesday starting April 1st\, 6:30pm-9pm.\n\n\n\nWarm weather\, cold beer\, and good times ahead.\n\n\n\n\n\nProudly supported by Steel Rain MC!
URL:https://www.cabarrusbrewing.com/event/bike-night/2027-10-27/
LOCATION:Cabarrus Brewing Co.
END:VEVENT
BEGIN:VEVENT
DTSTART;TZID=UTC:20271031T110000
DTEND;TZID=UTC:20271031T120000
DTSTAMP:20260422T012038
CREATED:20250109T152442Z
LAST-MODIFIED:20250109T152628Z
UID:10002113-1824980400-1824984000@www.cabarrusbrewing.com
SUMMARY:Sunday Yoga
DESCRIPTION:Grab a friend and your yoga mat and prepare for an hour of relaxation! Class led by Kat Harmon or one of the Sol Harmony Crew members.  All levels welcome. Class will take place in The Kettle Room during colder months & inclement weather. During the warmer months\, class will take place on the loading doc\, just outside the Kettle Room. \nClass begins at 11:00am. Please arrive with enough time to park and make your way to the space. Class will conclude at 12:00pm. Swing by the Cabarrus Brewing Taproom for a well-deserved drink & treat! Open until 8:00pm. \nInstagram @kat_harmon_Itsooy for more information. \n$10.00 for class. Please pay instructor.
URL:https://www.cabarrusbrewing.com/event/yoga-2-2/2027-10-31/
LOCATION:The Kettle Room
CATEGORIES:Weekly Events
ATTACH;FMTTYPE=image/png:https://www.cabarrusbrewing.com/wp-content/uploads/2023/08/yoga-sunday.png
END:VEVENT
END:VCALENDAR