BEGIN:VCALENDAR
VERSION:2.0
PRODID:-//Cabarrus Brewing Co. - ECPv6.10.2//NONSGML v1.0//EN
CALSCALE:GREGORIAN
METHOD:PUBLISH
X-ORIGINAL-URL:https://www.cabarrusbrewing.com
X-WR-CALDESC:Events for Cabarrus Brewing Co.
REFRESH-INTERVAL;VALUE=DURATION:PT1H
X-Robots-Tag:noindex
X-PUBLISHED-TTL:PT1H
BEGIN:VTIMEZONE
TZID:UTC
BEGIN:STANDARD
TZOFFSETFROM:+0000
TZOFFSETTO:+0000
TZNAME:UTC
DTSTART:20270101T000000
END:STANDARD
END:VTIMEZONE
BEGIN:VEVENT
DTSTART;TZID=UTC:20270901T183000
DTEND;TZID=UTC:20270901T210000
DTSTAMP:20260421T232836
CREATED:20260323T194527Z
LAST-MODIFIED:20260325T175902Z
UID:10002919-1819823400-1819832400@www.cabarrusbrewing.com
SUMMARY:Bike Night
DESCRIPTION:Bike Night is back \n\n\n\nJoin us every Wednesday starting April 1st\, 6:30pm-9pm.\n\n\n\nWarm weather\, cold beer\, and good times ahead.\n\n\n\n\n\nProudly supported by Steel Rain MC!
URL:https://www.cabarrusbrewing.com/event/bike-night/2027-09-01/
LOCATION:Cabarrus Brewing Co.
END:VEVENT
BEGIN:VEVENT
DTSTART;TZID=UTC:20270905T110000
DTEND;TZID=UTC:20270905T120000
DTSTAMP:20260421T232836
CREATED:20250109T152442Z
LAST-MODIFIED:20250109T152628Z
UID:10002105-1820142000-1820145600@www.cabarrusbrewing.com
SUMMARY:Sunday Yoga
DESCRIPTION:Grab a friend and your yoga mat and prepare for an hour of relaxation! Class led by Kat Harmon or one of the Sol Harmony Crew members.  All levels welcome. Class will take place in The Kettle Room during colder months & inclement weather. During the warmer months\, class will take place on the loading doc\, just outside the Kettle Room. \nClass begins at 11:00am. Please arrive with enough time to park and make your way to the space. Class will conclude at 12:00pm. Swing by the Cabarrus Brewing Taproom for a well-deserved drink & treat! Open until 8:00pm. \nInstagram @kat_harmon_Itsooy for more information. \n$10.00 for class. Please pay instructor.
URL:https://www.cabarrusbrewing.com/event/yoga-2-2/2027-09-05/
LOCATION:The Kettle Room
CATEGORIES:Weekly Events
ATTACH;FMTTYPE=image/png:https://www.cabarrusbrewing.com/wp-content/uploads/2023/08/yoga-sunday.png
END:VEVENT
BEGIN:VEVENT
DTSTART;TZID=UTC:20270906T184500
DTEND;TZID=UTC:20270906T204500
DTSTAMP:20260421T232836
CREATED:20260119T143242Z
LAST-MODIFIED:20260311T142525Z
UID:10002580-1820256300-1820263500@www.cabarrusbrewing.com
SUMMARY:Music Bingo
DESCRIPTION:6:45pm to 8:45pm every Monday in the taproom! \n  \nChances for prizes every week!
URL:https://www.cabarrusbrewing.com/event/music-bingo-2/2027-09-06/
LOCATION:Cabarrus Brewing Co.
END:VEVENT
BEGIN:VEVENT
DTSTART;TZID=UTC:20270907T190000
DTEND;TZID=UTC:20270907T200000
DTSTAMP:20260421T232836
CREATED:20240405T150134Z
LAST-MODIFIED:20240405T150223Z
UID:10001671-1820343600-1820347200@www.cabarrusbrewing.com
SUMMARY:Skyfit Fitness Classes
DESCRIPTION:Get ready for a fun and upbeat fitness dance class lead by Cara\, owner and lead coach of Skyfit CLT. \nAll levels are welcome. Classes will take place in The Kettle Room. \nClass begins at 7:00pm. Please arrive with enough time to park and make your way to the space. Class will conclude by 8:00pm. Swing by the Cabarrus Brewing Taproom for a well-deserved drink & meal! Taproom is open until 10:00pm. \n  \nInstagram: skyfitdancefitness \n$15 for class. Please pay Cara.
URL:https://www.cabarrusbrewing.com/event/skyfit-fitness-classes/2027-09-07/
LOCATION:The Kettle Room
CATEGORIES:Weekly Events
ATTACH;FMTTYPE=image/webp:https://www.cabarrusbrewing.com/wp-content/uploads/2024/04/fx-gs.webp
END:VEVENT
BEGIN:VEVENT
DTSTART;TZID=UTC:20270908T183000
DTEND;TZID=UTC:20270908T210000
DTSTAMP:20260421T232836
CREATED:20260323T194527Z
LAST-MODIFIED:20260325T175902Z
UID:10002920-1820428200-1820437200@www.cabarrusbrewing.com
SUMMARY:Bike Night
DESCRIPTION:Bike Night is back \n\n\n\nJoin us every Wednesday starting April 1st\, 6:30pm-9pm.\n\n\n\nWarm weather\, cold beer\, and good times ahead.\n\n\n\n\n\nProudly supported by Steel Rain MC!
URL:https://www.cabarrusbrewing.com/event/bike-night/2027-09-08/
LOCATION:Cabarrus Brewing Co.
END:VEVENT
BEGIN:VEVENT
DTSTART;TZID=UTC:20270912T110000
DTEND;TZID=UTC:20270912T120000
DTSTAMP:20260421T232836
CREATED:20250109T152442Z
LAST-MODIFIED:20250109T152628Z
UID:10002106-1820746800-1820750400@www.cabarrusbrewing.com
SUMMARY:Sunday Yoga
DESCRIPTION:Grab a friend and your yoga mat and prepare for an hour of relaxation! Class led by Kat Harmon or one of the Sol Harmony Crew members.  All levels welcome. Class will take place in The Kettle Room during colder months & inclement weather. During the warmer months\, class will take place on the loading doc\, just outside the Kettle Room. \nClass begins at 11:00am. Please arrive with enough time to park and make your way to the space. Class will conclude at 12:00pm. Swing by the Cabarrus Brewing Taproom for a well-deserved drink & treat! Open until 8:00pm. \nInstagram @kat_harmon_Itsooy for more information. \n$10.00 for class. Please pay instructor.
URL:https://www.cabarrusbrewing.com/event/yoga-2-2/2027-09-12/
LOCATION:The Kettle Room
CATEGORIES:Weekly Events
ATTACH;FMTTYPE=image/png:https://www.cabarrusbrewing.com/wp-content/uploads/2023/08/yoga-sunday.png
END:VEVENT
BEGIN:VEVENT
DTSTART;TZID=UTC:20270913T184500
DTEND;TZID=UTC:20270913T204500
DTSTAMP:20260421T232836
CREATED:20260119T143242Z
LAST-MODIFIED:20260311T142525Z
UID:10002581-1820861100-1820868300@www.cabarrusbrewing.com
SUMMARY:Music Bingo
DESCRIPTION:6:45pm to 8:45pm every Monday in the taproom! \n  \nChances for prizes every week!
URL:https://www.cabarrusbrewing.com/event/music-bingo-2/2027-09-13/
LOCATION:Cabarrus Brewing Co.
END:VEVENT
BEGIN:VEVENT
DTSTART;TZID=UTC:20270914T190000
DTEND;TZID=UTC:20270914T200000
DTSTAMP:20260421T232836
CREATED:20240405T150134Z
LAST-MODIFIED:20240405T150223Z
UID:10001672-1820948400-1820952000@www.cabarrusbrewing.com
SUMMARY:Skyfit Fitness Classes
DESCRIPTION:Get ready for a fun and upbeat fitness dance class lead by Cara\, owner and lead coach of Skyfit CLT. \nAll levels are welcome. Classes will take place in The Kettle Room. \nClass begins at 7:00pm. Please arrive with enough time to park and make your way to the space. Class will conclude by 8:00pm. Swing by the Cabarrus Brewing Taproom for a well-deserved drink & meal! Taproom is open until 10:00pm. \n  \nInstagram: skyfitdancefitness \n$15 for class. Please pay Cara.
URL:https://www.cabarrusbrewing.com/event/skyfit-fitness-classes/2027-09-14/
LOCATION:The Kettle Room
CATEGORIES:Weekly Events
ATTACH;FMTTYPE=image/webp:https://www.cabarrusbrewing.com/wp-content/uploads/2024/04/fx-gs.webp
END:VEVENT
BEGIN:VEVENT
DTSTART;TZID=UTC:20270915T183000
DTEND;TZID=UTC:20270915T210000
DTSTAMP:20260421T232836
CREATED:20260323T194527Z
LAST-MODIFIED:20260325T175902Z
UID:10002921-1821033000-1821042000@www.cabarrusbrewing.com
SUMMARY:Bike Night
DESCRIPTION:Bike Night is back \n\n\n\nJoin us every Wednesday starting April 1st\, 6:30pm-9pm.\n\n\n\nWarm weather\, cold beer\, and good times ahead.\n\n\n\n\n\nProudly supported by Steel Rain MC!
URL:https://www.cabarrusbrewing.com/event/bike-night/2027-09-15/
LOCATION:Cabarrus Brewing Co.
END:VEVENT
BEGIN:VEVENT
DTSTART;TZID=UTC:20270919T110000
DTEND;TZID=UTC:20270919T120000
DTSTAMP:20260421T232836
CREATED:20250109T152442Z
LAST-MODIFIED:20250109T152628Z
UID:10002107-1821351600-1821355200@www.cabarrusbrewing.com
SUMMARY:Sunday Yoga
DESCRIPTION:Grab a friend and your yoga mat and prepare for an hour of relaxation! Class led by Kat Harmon or one of the Sol Harmony Crew members.  All levels welcome. Class will take place in The Kettle Room during colder months & inclement weather. During the warmer months\, class will take place on the loading doc\, just outside the Kettle Room. \nClass begins at 11:00am. Please arrive with enough time to park and make your way to the space. Class will conclude at 12:00pm. Swing by the Cabarrus Brewing Taproom for a well-deserved drink & treat! Open until 8:00pm. \nInstagram @kat_harmon_Itsooy for more information. \n$10.00 for class. Please pay instructor.
URL:https://www.cabarrusbrewing.com/event/yoga-2-2/2027-09-19/
LOCATION:The Kettle Room
CATEGORIES:Weekly Events
ATTACH;FMTTYPE=image/png:https://www.cabarrusbrewing.com/wp-content/uploads/2023/08/yoga-sunday.png
END:VEVENT
BEGIN:VEVENT
DTSTART;TZID=UTC:20270920T184500
DTEND;TZID=UTC:20270920T204500
DTSTAMP:20260421T232836
CREATED:20260119T143242Z
LAST-MODIFIED:20260311T142525Z
UID:10002582-1821465900-1821473100@www.cabarrusbrewing.com
SUMMARY:Music Bingo
DESCRIPTION:6:45pm to 8:45pm every Monday in the taproom! \n  \nChances for prizes every week!
URL:https://www.cabarrusbrewing.com/event/music-bingo-2/2027-09-20/
LOCATION:Cabarrus Brewing Co.
END:VEVENT
BEGIN:VEVENT
DTSTART;TZID=UTC:20270921T190000
DTEND;TZID=UTC:20270921T200000
DTSTAMP:20260421T232836
CREATED:20240405T150134Z
LAST-MODIFIED:20240405T150223Z
UID:10001673-1821553200-1821556800@www.cabarrusbrewing.com
SUMMARY:Skyfit Fitness Classes
DESCRIPTION:Get ready for a fun and upbeat fitness dance class lead by Cara\, owner and lead coach of Skyfit CLT. \nAll levels are welcome. Classes will take place in The Kettle Room. \nClass begins at 7:00pm. Please arrive with enough time to park and make your way to the space. Class will conclude by 8:00pm. Swing by the Cabarrus Brewing Taproom for a well-deserved drink & meal! Taproom is open until 10:00pm. \n  \nInstagram: skyfitdancefitness \n$15 for class. Please pay Cara.
URL:https://www.cabarrusbrewing.com/event/skyfit-fitness-classes/2027-09-21/
LOCATION:The Kettle Room
CATEGORIES:Weekly Events
ATTACH;FMTTYPE=image/webp:https://www.cabarrusbrewing.com/wp-content/uploads/2024/04/fx-gs.webp
END:VEVENT
BEGIN:VEVENT
DTSTART;TZID=UTC:20270922T183000
DTEND;TZID=UTC:20270922T210000
DTSTAMP:20260421T232836
CREATED:20260323T194527Z
LAST-MODIFIED:20260325T175902Z
UID:10002922-1821637800-1821646800@www.cabarrusbrewing.com
SUMMARY:Bike Night
DESCRIPTION:Bike Night is back \n\n\n\nJoin us every Wednesday starting April 1st\, 6:30pm-9pm.\n\n\n\nWarm weather\, cold beer\, and good times ahead.\n\n\n\n\n\nProudly supported by Steel Rain MC!
URL:https://www.cabarrusbrewing.com/event/bike-night/2027-09-22/
LOCATION:Cabarrus Brewing Co.
END:VEVENT
BEGIN:VEVENT
DTSTART;TZID=UTC:20270926T110000
DTEND;TZID=UTC:20270926T120000
DTSTAMP:20260421T232836
CREATED:20250109T152442Z
LAST-MODIFIED:20250109T152628Z
UID:10002108-1821956400-1821960000@www.cabarrusbrewing.com
SUMMARY:Sunday Yoga
DESCRIPTION:Grab a friend and your yoga mat and prepare for an hour of relaxation! Class led by Kat Harmon or one of the Sol Harmony Crew members.  All levels welcome. Class will take place in The Kettle Room during colder months & inclement weather. During the warmer months\, class will take place on the loading doc\, just outside the Kettle Room. \nClass begins at 11:00am. Please arrive with enough time to park and make your way to the space. Class will conclude at 12:00pm. Swing by the Cabarrus Brewing Taproom for a well-deserved drink & treat! Open until 8:00pm. \nInstagram @kat_harmon_Itsooy for more information. \n$10.00 for class. Please pay instructor.
URL:https://www.cabarrusbrewing.com/event/yoga-2-2/2027-09-26/
LOCATION:The Kettle Room
CATEGORIES:Weekly Events
ATTACH;FMTTYPE=image/png:https://www.cabarrusbrewing.com/wp-content/uploads/2023/08/yoga-sunday.png
END:VEVENT
BEGIN:VEVENT
DTSTART;TZID=UTC:20270927T184500
DTEND;TZID=UTC:20270927T204500
DTSTAMP:20260421T232836
CREATED:20260119T143242Z
LAST-MODIFIED:20260311T142525Z
UID:10002583-1822070700-1822077900@www.cabarrusbrewing.com
SUMMARY:Music Bingo
DESCRIPTION:6:45pm to 8:45pm every Monday in the taproom! \n  \nChances for prizes every week!
URL:https://www.cabarrusbrewing.com/event/music-bingo-2/2027-09-27/
LOCATION:Cabarrus Brewing Co.
END:VEVENT
BEGIN:VEVENT
DTSTART;TZID=UTC:20270928T190000
DTEND;TZID=UTC:20270928T200000
DTSTAMP:20260421T232836
CREATED:20240405T150134Z
LAST-MODIFIED:20240405T150223Z
UID:10001674-1822158000-1822161600@www.cabarrusbrewing.com
SUMMARY:Skyfit Fitness Classes
DESCRIPTION:Get ready for a fun and upbeat fitness dance class lead by Cara\, owner and lead coach of Skyfit CLT. \nAll levels are welcome. Classes will take place in The Kettle Room. \nClass begins at 7:00pm. Please arrive with enough time to park and make your way to the space. Class will conclude by 8:00pm. Swing by the Cabarrus Brewing Taproom for a well-deserved drink & meal! Taproom is open until 10:00pm. \n  \nInstagram: skyfitdancefitness \n$15 for class. Please pay Cara.
URL:https://www.cabarrusbrewing.com/event/skyfit-fitness-classes/2027-09-28/
LOCATION:The Kettle Room
CATEGORIES:Weekly Events
ATTACH;FMTTYPE=image/webp:https://www.cabarrusbrewing.com/wp-content/uploads/2024/04/fx-gs.webp
END:VEVENT
BEGIN:VEVENT
DTSTART;TZID=UTC:20270929T183000
DTEND;TZID=UTC:20270929T210000
DTSTAMP:20260421T232836
CREATED:20260323T194527Z
LAST-MODIFIED:20260325T175902Z
UID:10002923-1822242600-1822251600@www.cabarrusbrewing.com
SUMMARY:Bike Night
DESCRIPTION:Bike Night is back \n\n\n\nJoin us every Wednesday starting April 1st\, 6:30pm-9pm.\n\n\n\nWarm weather\, cold beer\, and good times ahead.\n\n\n\n\n\nProudly supported by Steel Rain MC!
URL:https://www.cabarrusbrewing.com/event/bike-night/2027-09-29/
LOCATION:Cabarrus Brewing Co.
END:VEVENT
END:VCALENDAR