BEGIN:VCALENDAR
VERSION:2.0
PRODID:-//Cabarrus Brewing Co. - ECPv6.10.2//NONSGML v1.0//EN
CALSCALE:GREGORIAN
METHOD:PUBLISH
X-ORIGINAL-URL:https://www.cabarrusbrewing.com
X-WR-CALDESC:Events for Cabarrus Brewing Co.
REFRESH-INTERVAL;VALUE=DURATION:PT1H
X-Robots-Tag:noindex
X-PUBLISHED-TTL:PT1H
BEGIN:VTIMEZONE
TZID:UTC
BEGIN:STANDARD
TZOFFSETFROM:+0000
TZOFFSETTO:+0000
TZNAME:UTC
DTSTART:20270101T000000
END:STANDARD
END:VTIMEZONE
BEGIN:VEVENT
DTSTART;TZID=UTC:20270704T110000
DTEND;TZID=UTC:20270704T120000
DTSTAMP:20260421T194818
CREATED:20250109T152442Z
LAST-MODIFIED:20250109T152628Z
UID:10002096-1814698800-1814702400@www.cabarrusbrewing.com
SUMMARY:Sunday Yoga
DESCRIPTION:Grab a friend and your yoga mat and prepare for an hour of relaxation! Class led by Kat Harmon or one of the Sol Harmony Crew members.  All levels welcome. Class will take place in The Kettle Room during colder months & inclement weather. During the warmer months\, class will take place on the loading doc\, just outside the Kettle Room. \nClass begins at 11:00am. Please arrive with enough time to park and make your way to the space. Class will conclude at 12:00pm. Swing by the Cabarrus Brewing Taproom for a well-deserved drink & treat! Open until 8:00pm. \nInstagram @kat_harmon_Itsooy for more information. \n$10.00 for class. Please pay instructor.
URL:https://www.cabarrusbrewing.com/event/yoga-2-2/2027-07-04/
LOCATION:The Kettle Room
CATEGORIES:Weekly Events
ATTACH;FMTTYPE=image/png:https://www.cabarrusbrewing.com/wp-content/uploads/2023/08/yoga-sunday.png
END:VEVENT
BEGIN:VEVENT
DTSTART;TZID=UTC:20270705T184500
DTEND;TZID=UTC:20270705T204500
DTSTAMP:20260421T194818
CREATED:20260119T143242Z
LAST-MODIFIED:20260311T142525Z
UID:10002571-1814813100-1814820300@www.cabarrusbrewing.com
SUMMARY:Music Bingo
DESCRIPTION:6:45pm to 8:45pm every Monday in the taproom! \n  \nChances for prizes every week!
URL:https://www.cabarrusbrewing.com/event/music-bingo-2/2027-07-05/
LOCATION:Cabarrus Brewing Co.
END:VEVENT
BEGIN:VEVENT
DTSTART;TZID=UTC:20270706T190000
DTEND;TZID=UTC:20270706T200000
DTSTAMP:20260421T194818
CREATED:20240405T150134Z
LAST-MODIFIED:20240405T150223Z
UID:10001662-1814900400-1814904000@www.cabarrusbrewing.com
SUMMARY:Skyfit Fitness Classes
DESCRIPTION:Get ready for a fun and upbeat fitness dance class lead by Cara\, owner and lead coach of Skyfit CLT. \nAll levels are welcome. Classes will take place in The Kettle Room. \nClass begins at 7:00pm. Please arrive with enough time to park and make your way to the space. Class will conclude by 8:00pm. Swing by the Cabarrus Brewing Taproom for a well-deserved drink & meal! Taproom is open until 10:00pm. \n  \nInstagram: skyfitdancefitness \n$15 for class. Please pay Cara.
URL:https://www.cabarrusbrewing.com/event/skyfit-fitness-classes/2027-07-06/
LOCATION:The Kettle Room
CATEGORIES:Weekly Events
ATTACH;FMTTYPE=image/webp:https://www.cabarrusbrewing.com/wp-content/uploads/2024/04/fx-gs.webp
END:VEVENT
BEGIN:VEVENT
DTSTART;TZID=UTC:20270707T183000
DTEND;TZID=UTC:20270707T210000
DTSTAMP:20260421T194818
CREATED:20260323T194527Z
LAST-MODIFIED:20260325T175902Z
UID:10002911-1814985000-1814994000@www.cabarrusbrewing.com
SUMMARY:Bike Night
DESCRIPTION:Bike Night is back \n\n\n\nJoin us every Wednesday starting April 1st\, 6:30pm-9pm.\n\n\n\nWarm weather\, cold beer\, and good times ahead.\n\n\n\n\n\nProudly supported by Steel Rain MC!
URL:https://www.cabarrusbrewing.com/event/bike-night/2027-07-07/
LOCATION:Cabarrus Brewing Co.
END:VEVENT
BEGIN:VEVENT
DTSTART;TZID=UTC:20270711T110000
DTEND;TZID=UTC:20270711T120000
DTSTAMP:20260421T194818
CREATED:20250109T152442Z
LAST-MODIFIED:20250109T152628Z
UID:10002097-1815303600-1815307200@www.cabarrusbrewing.com
SUMMARY:Sunday Yoga
DESCRIPTION:Grab a friend and your yoga mat and prepare for an hour of relaxation! Class led by Kat Harmon or one of the Sol Harmony Crew members.  All levels welcome. Class will take place in The Kettle Room during colder months & inclement weather. During the warmer months\, class will take place on the loading doc\, just outside the Kettle Room. \nClass begins at 11:00am. Please arrive with enough time to park and make your way to the space. Class will conclude at 12:00pm. Swing by the Cabarrus Brewing Taproom for a well-deserved drink & treat! Open until 8:00pm. \nInstagram @kat_harmon_Itsooy for more information. \n$10.00 for class. Please pay instructor.
URL:https://www.cabarrusbrewing.com/event/yoga-2-2/2027-07-11/
LOCATION:The Kettle Room
CATEGORIES:Weekly Events
ATTACH;FMTTYPE=image/png:https://www.cabarrusbrewing.com/wp-content/uploads/2023/08/yoga-sunday.png
END:VEVENT
BEGIN:VEVENT
DTSTART;TZID=UTC:20270712T184500
DTEND;TZID=UTC:20270712T204500
DTSTAMP:20260421T194818
CREATED:20260119T143242Z
LAST-MODIFIED:20260311T142525Z
UID:10002572-1815417900-1815425100@www.cabarrusbrewing.com
SUMMARY:Music Bingo
DESCRIPTION:6:45pm to 8:45pm every Monday in the taproom! \n  \nChances for prizes every week!
URL:https://www.cabarrusbrewing.com/event/music-bingo-2/2027-07-12/
LOCATION:Cabarrus Brewing Co.
END:VEVENT
BEGIN:VEVENT
DTSTART;TZID=UTC:20270713T190000
DTEND;TZID=UTC:20270713T200000
DTSTAMP:20260421T194818
CREATED:20240405T150134Z
LAST-MODIFIED:20240405T150223Z
UID:10001663-1815505200-1815508800@www.cabarrusbrewing.com
SUMMARY:Skyfit Fitness Classes
DESCRIPTION:Get ready for a fun and upbeat fitness dance class lead by Cara\, owner and lead coach of Skyfit CLT. \nAll levels are welcome. Classes will take place in The Kettle Room. \nClass begins at 7:00pm. Please arrive with enough time to park and make your way to the space. Class will conclude by 8:00pm. Swing by the Cabarrus Brewing Taproom for a well-deserved drink & meal! Taproom is open until 10:00pm. \n  \nInstagram: skyfitdancefitness \n$15 for class. Please pay Cara.
URL:https://www.cabarrusbrewing.com/event/skyfit-fitness-classes/2027-07-13/
LOCATION:The Kettle Room
CATEGORIES:Weekly Events
ATTACH;FMTTYPE=image/webp:https://www.cabarrusbrewing.com/wp-content/uploads/2024/04/fx-gs.webp
END:VEVENT
BEGIN:VEVENT
DTSTART;TZID=UTC:20270714T183000
DTEND;TZID=UTC:20270714T210000
DTSTAMP:20260421T194818
CREATED:20260323T194527Z
LAST-MODIFIED:20260325T175902Z
UID:10002912-1815589800-1815598800@www.cabarrusbrewing.com
SUMMARY:Bike Night
DESCRIPTION:Bike Night is back \n\n\n\nJoin us every Wednesday starting April 1st\, 6:30pm-9pm.\n\n\n\nWarm weather\, cold beer\, and good times ahead.\n\n\n\n\n\nProudly supported by Steel Rain MC!
URL:https://www.cabarrusbrewing.com/event/bike-night/2027-07-14/
LOCATION:Cabarrus Brewing Co.
END:VEVENT
BEGIN:VEVENT
DTSTART;TZID=UTC:20270718T110000
DTEND;TZID=UTC:20270718T120000
DTSTAMP:20260421T194818
CREATED:20250109T152442Z
LAST-MODIFIED:20250109T152628Z
UID:10002098-1815908400-1815912000@www.cabarrusbrewing.com
SUMMARY:Sunday Yoga
DESCRIPTION:Grab a friend and your yoga mat and prepare for an hour of relaxation! Class led by Kat Harmon or one of the Sol Harmony Crew members.  All levels welcome. Class will take place in The Kettle Room during colder months & inclement weather. During the warmer months\, class will take place on the loading doc\, just outside the Kettle Room. \nClass begins at 11:00am. Please arrive with enough time to park and make your way to the space. Class will conclude at 12:00pm. Swing by the Cabarrus Brewing Taproom for a well-deserved drink & treat! Open until 8:00pm. \nInstagram @kat_harmon_Itsooy for more information. \n$10.00 for class. Please pay instructor.
URL:https://www.cabarrusbrewing.com/event/yoga-2-2/2027-07-18/
LOCATION:The Kettle Room
CATEGORIES:Weekly Events
ATTACH;FMTTYPE=image/png:https://www.cabarrusbrewing.com/wp-content/uploads/2023/08/yoga-sunday.png
END:VEVENT
BEGIN:VEVENT
DTSTART;TZID=UTC:20270719T184500
DTEND;TZID=UTC:20270719T204500
DTSTAMP:20260421T194818
CREATED:20260119T143242Z
LAST-MODIFIED:20260311T142525Z
UID:10002573-1816022700-1816029900@www.cabarrusbrewing.com
SUMMARY:Music Bingo
DESCRIPTION:6:45pm to 8:45pm every Monday in the taproom! \n  \nChances for prizes every week!
URL:https://www.cabarrusbrewing.com/event/music-bingo-2/2027-07-19/
LOCATION:Cabarrus Brewing Co.
END:VEVENT
BEGIN:VEVENT
DTSTART;TZID=UTC:20270720T190000
DTEND;TZID=UTC:20270720T200000
DTSTAMP:20260421T194818
CREATED:20240405T150134Z
LAST-MODIFIED:20240405T150223Z
UID:10001664-1816110000-1816113600@www.cabarrusbrewing.com
SUMMARY:Skyfit Fitness Classes
DESCRIPTION:Get ready for a fun and upbeat fitness dance class lead by Cara\, owner and lead coach of Skyfit CLT. \nAll levels are welcome. Classes will take place in The Kettle Room. \nClass begins at 7:00pm. Please arrive with enough time to park and make your way to the space. Class will conclude by 8:00pm. Swing by the Cabarrus Brewing Taproom for a well-deserved drink & meal! Taproom is open until 10:00pm. \n  \nInstagram: skyfitdancefitness \n$15 for class. Please pay Cara.
URL:https://www.cabarrusbrewing.com/event/skyfit-fitness-classes/2027-07-20/
LOCATION:The Kettle Room
CATEGORIES:Weekly Events
ATTACH;FMTTYPE=image/webp:https://www.cabarrusbrewing.com/wp-content/uploads/2024/04/fx-gs.webp
END:VEVENT
BEGIN:VEVENT
DTSTART;TZID=UTC:20270721T183000
DTEND;TZID=UTC:20270721T210000
DTSTAMP:20260421T194818
CREATED:20260323T194527Z
LAST-MODIFIED:20260325T175902Z
UID:10002913-1816194600-1816203600@www.cabarrusbrewing.com
SUMMARY:Bike Night
DESCRIPTION:Bike Night is back \n\n\n\nJoin us every Wednesday starting April 1st\, 6:30pm-9pm.\n\n\n\nWarm weather\, cold beer\, and good times ahead.\n\n\n\n\n\nProudly supported by Steel Rain MC!
URL:https://www.cabarrusbrewing.com/event/bike-night/2027-07-21/
LOCATION:Cabarrus Brewing Co.
END:VEVENT
BEGIN:VEVENT
DTSTART;TZID=UTC:20270725T110000
DTEND;TZID=UTC:20270725T120000
DTSTAMP:20260421T194818
CREATED:20250109T152442Z
LAST-MODIFIED:20250109T152628Z
UID:10002099-1816513200-1816516800@www.cabarrusbrewing.com
SUMMARY:Sunday Yoga
DESCRIPTION:Grab a friend and your yoga mat and prepare for an hour of relaxation! Class led by Kat Harmon or one of the Sol Harmony Crew members.  All levels welcome. Class will take place in The Kettle Room during colder months & inclement weather. During the warmer months\, class will take place on the loading doc\, just outside the Kettle Room. \nClass begins at 11:00am. Please arrive with enough time to park and make your way to the space. Class will conclude at 12:00pm. Swing by the Cabarrus Brewing Taproom for a well-deserved drink & treat! Open until 8:00pm. \nInstagram @kat_harmon_Itsooy for more information. \n$10.00 for class. Please pay instructor.
URL:https://www.cabarrusbrewing.com/event/yoga-2-2/2027-07-25/
LOCATION:The Kettle Room
CATEGORIES:Weekly Events
ATTACH;FMTTYPE=image/png:https://www.cabarrusbrewing.com/wp-content/uploads/2023/08/yoga-sunday.png
END:VEVENT
BEGIN:VEVENT
DTSTART;TZID=UTC:20270726T184500
DTEND;TZID=UTC:20270726T204500
DTSTAMP:20260421T194818
CREATED:20260119T143242Z
LAST-MODIFIED:20260311T142525Z
UID:10002574-1816627500-1816634700@www.cabarrusbrewing.com
SUMMARY:Music Bingo
DESCRIPTION:6:45pm to 8:45pm every Monday in the taproom! \n  \nChances for prizes every week!
URL:https://www.cabarrusbrewing.com/event/music-bingo-2/2027-07-26/
LOCATION:Cabarrus Brewing Co.
END:VEVENT
BEGIN:VEVENT
DTSTART;TZID=UTC:20270727T190000
DTEND;TZID=UTC:20270727T200000
DTSTAMP:20260421T194818
CREATED:20240405T150134Z
LAST-MODIFIED:20240405T150223Z
UID:10001665-1816714800-1816718400@www.cabarrusbrewing.com
SUMMARY:Skyfit Fitness Classes
DESCRIPTION:Get ready for a fun and upbeat fitness dance class lead by Cara\, owner and lead coach of Skyfit CLT. \nAll levels are welcome. Classes will take place in The Kettle Room. \nClass begins at 7:00pm. Please arrive with enough time to park and make your way to the space. Class will conclude by 8:00pm. Swing by the Cabarrus Brewing Taproom for a well-deserved drink & meal! Taproom is open until 10:00pm. \n  \nInstagram: skyfitdancefitness \n$15 for class. Please pay Cara.
URL:https://www.cabarrusbrewing.com/event/skyfit-fitness-classes/2027-07-27/
LOCATION:The Kettle Room
CATEGORIES:Weekly Events
ATTACH;FMTTYPE=image/webp:https://www.cabarrusbrewing.com/wp-content/uploads/2024/04/fx-gs.webp
END:VEVENT
BEGIN:VEVENT
DTSTART;TZID=UTC:20270728T183000
DTEND;TZID=UTC:20270728T210000
DTSTAMP:20260421T194818
CREATED:20260323T194527Z
LAST-MODIFIED:20260325T175902Z
UID:10002914-1816799400-1816808400@www.cabarrusbrewing.com
SUMMARY:Bike Night
DESCRIPTION:Bike Night is back \n\n\n\nJoin us every Wednesday starting April 1st\, 6:30pm-9pm.\n\n\n\nWarm weather\, cold beer\, and good times ahead.\n\n\n\n\n\nProudly supported by Steel Rain MC!
URL:https://www.cabarrusbrewing.com/event/bike-night/2027-07-28/
LOCATION:Cabarrus Brewing Co.
END:VEVENT
END:VCALENDAR