BEGIN:VCALENDAR
VERSION:2.0
PRODID:-//Cabarrus Brewing Co. - ECPv6.10.2//NONSGML v1.0//EN
CALSCALE:GREGORIAN
METHOD:PUBLISH
X-ORIGINAL-URL:https://www.cabarrusbrewing.com
X-WR-CALDESC:Events for Cabarrus Brewing Co.
REFRESH-INTERVAL;VALUE=DURATION:PT1H
X-Robots-Tag:noindex
X-PUBLISHED-TTL:PT1H
BEGIN:VTIMEZONE
TZID:UTC
BEGIN:STANDARD
TZOFFSETFROM:+0000
TZOFFSETTO:+0000
TZNAME:UTC
DTSTART:20270101T000000
END:STANDARD
END:VTIMEZONE
BEGIN:VEVENT
DTSTART;TZID=UTC:20270301T184500
DTEND;TZID=UTC:20270301T204500
DTSTAMP:20260421T090153
CREATED:20260119T143242Z
LAST-MODIFIED:20260311T142525Z
UID:10002553-1803926700-1803933900@www.cabarrusbrewing.com
SUMMARY:Music Bingo
DESCRIPTION:6:45pm to 8:45pm every Monday in the taproom! \n  \nChances for prizes every week!
URL:https://www.cabarrusbrewing.com/event/music-bingo-2/2027-03-01/
LOCATION:Cabarrus Brewing Co.
END:VEVENT
BEGIN:VEVENT
DTSTART;TZID=UTC:20270302T190000
DTEND;TZID=UTC:20270302T200000
DTSTAMP:20260421T090153
CREATED:20240405T150134Z
LAST-MODIFIED:20240405T150223Z
UID:10001644-1804014000-1804017600@www.cabarrusbrewing.com
SUMMARY:Skyfit Fitness Classes
DESCRIPTION:Get ready for a fun and upbeat fitness dance class lead by Cara\, owner and lead coach of Skyfit CLT. \nAll levels are welcome. Classes will take place in The Kettle Room. \nClass begins at 7:00pm. Please arrive with enough time to park and make your way to the space. Class will conclude by 8:00pm. Swing by the Cabarrus Brewing Taproom for a well-deserved drink & meal! Taproom is open until 10:00pm. \n  \nInstagram: skyfitdancefitness \n$15 for class. Please pay Cara.
URL:https://www.cabarrusbrewing.com/event/skyfit-fitness-classes/2027-03-02/
LOCATION:The Kettle Room
CATEGORIES:Weekly Events
ATTACH;FMTTYPE=image/webp:https://www.cabarrusbrewing.com/wp-content/uploads/2024/04/fx-gs.webp
END:VEVENT
BEGIN:VEVENT
DTSTART;TZID=UTC:20270303T183000
DTEND;TZID=UTC:20270303T210000
DTSTAMP:20260421T090153
CREATED:20260323T194527Z
LAST-MODIFIED:20260325T175902Z
UID:10002893-1804098600-1804107600@www.cabarrusbrewing.com
SUMMARY:Bike Night
DESCRIPTION:Bike Night is back \n\n\n\nJoin us every Wednesday starting April 1st\, 6:30pm-9pm.\n\n\n\nWarm weather\, cold beer\, and good times ahead.\n\n\n\n\n\nProudly supported by Steel Rain MC!
URL:https://www.cabarrusbrewing.com/event/bike-night/2027-03-03/
LOCATION:Cabarrus Brewing Co.
END:VEVENT
BEGIN:VEVENT
DTSTART;TZID=UTC:20270307T110000
DTEND;TZID=UTC:20270307T120000
DTSTAMP:20260421T090153
CREATED:20250109T152442Z
LAST-MODIFIED:20250109T152628Z
UID:10002079-1804417200-1804420800@www.cabarrusbrewing.com
SUMMARY:Sunday Yoga
DESCRIPTION:Grab a friend and your yoga mat and prepare for an hour of relaxation! Class led by Kat Harmon or one of the Sol Harmony Crew members.  All levels welcome. Class will take place in The Kettle Room during colder months & inclement weather. During the warmer months\, class will take place on the loading doc\, just outside the Kettle Room. \nClass begins at 11:00am. Please arrive with enough time to park and make your way to the space. Class will conclude at 12:00pm. Swing by the Cabarrus Brewing Taproom for a well-deserved drink & treat! Open until 8:00pm. \nInstagram @kat_harmon_Itsooy for more information. \n$10.00 for class. Please pay instructor.
URL:https://www.cabarrusbrewing.com/event/yoga-2-2/2027-03-07/
LOCATION:The Kettle Room
CATEGORIES:Weekly Events
ATTACH;FMTTYPE=image/png:https://www.cabarrusbrewing.com/wp-content/uploads/2023/08/yoga-sunday.png
END:VEVENT
BEGIN:VEVENT
DTSTART;TZID=UTC:20270308T184500
DTEND;TZID=UTC:20270308T204500
DTSTAMP:20260421T090153
CREATED:20260119T143242Z
LAST-MODIFIED:20260311T142525Z
UID:10002554-1804531500-1804538700@www.cabarrusbrewing.com
SUMMARY:Music Bingo
DESCRIPTION:6:45pm to 8:45pm every Monday in the taproom! \n  \nChances for prizes every week!
URL:https://www.cabarrusbrewing.com/event/music-bingo-2/2027-03-08/
LOCATION:Cabarrus Brewing Co.
END:VEVENT
BEGIN:VEVENT
DTSTART;TZID=UTC:20270309T190000
DTEND;TZID=UTC:20270309T200000
DTSTAMP:20260421T090153
CREATED:20240405T150134Z
LAST-MODIFIED:20240405T150223Z
UID:10001645-1804618800-1804622400@www.cabarrusbrewing.com
SUMMARY:Skyfit Fitness Classes
DESCRIPTION:Get ready for a fun and upbeat fitness dance class lead by Cara\, owner and lead coach of Skyfit CLT. \nAll levels are welcome. Classes will take place in The Kettle Room. \nClass begins at 7:00pm. Please arrive with enough time to park and make your way to the space. Class will conclude by 8:00pm. Swing by the Cabarrus Brewing Taproom for a well-deserved drink & meal! Taproom is open until 10:00pm. \n  \nInstagram: skyfitdancefitness \n$15 for class. Please pay Cara.
URL:https://www.cabarrusbrewing.com/event/skyfit-fitness-classes/2027-03-09/
LOCATION:The Kettle Room
CATEGORIES:Weekly Events
ATTACH;FMTTYPE=image/webp:https://www.cabarrusbrewing.com/wp-content/uploads/2024/04/fx-gs.webp
END:VEVENT
BEGIN:VEVENT
DTSTART;TZID=UTC:20270310T183000
DTEND;TZID=UTC:20270310T210000
DTSTAMP:20260421T090153
CREATED:20260323T194527Z
LAST-MODIFIED:20260325T175902Z
UID:10002894-1804703400-1804712400@www.cabarrusbrewing.com
SUMMARY:Bike Night
DESCRIPTION:Bike Night is back \n\n\n\nJoin us every Wednesday starting April 1st\, 6:30pm-9pm.\n\n\n\nWarm weather\, cold beer\, and good times ahead.\n\n\n\n\n\nProudly supported by Steel Rain MC!
URL:https://www.cabarrusbrewing.com/event/bike-night/2027-03-10/
LOCATION:Cabarrus Brewing Co.
END:VEVENT
BEGIN:VEVENT
DTSTART;TZID=UTC:20270314T110000
DTEND;TZID=UTC:20270314T120000
DTSTAMP:20260421T090153
CREATED:20250109T152442Z
LAST-MODIFIED:20250109T152628Z
UID:10002080-1805022000-1805025600@www.cabarrusbrewing.com
SUMMARY:Sunday Yoga
DESCRIPTION:Grab a friend and your yoga mat and prepare for an hour of relaxation! Class led by Kat Harmon or one of the Sol Harmony Crew members.  All levels welcome. Class will take place in The Kettle Room during colder months & inclement weather. During the warmer months\, class will take place on the loading doc\, just outside the Kettle Room. \nClass begins at 11:00am. Please arrive with enough time to park and make your way to the space. Class will conclude at 12:00pm. Swing by the Cabarrus Brewing Taproom for a well-deserved drink & treat! Open until 8:00pm. \nInstagram @kat_harmon_Itsooy for more information. \n$10.00 for class. Please pay instructor.
URL:https://www.cabarrusbrewing.com/event/yoga-2-2/2027-03-14/
LOCATION:The Kettle Room
CATEGORIES:Weekly Events
ATTACH;FMTTYPE=image/png:https://www.cabarrusbrewing.com/wp-content/uploads/2023/08/yoga-sunday.png
END:VEVENT
BEGIN:VEVENT
DTSTART;TZID=UTC:20270315T184500
DTEND;TZID=UTC:20270315T204500
DTSTAMP:20260421T090153
CREATED:20260119T143242Z
LAST-MODIFIED:20260311T142525Z
UID:10002555-1805136300-1805143500@www.cabarrusbrewing.com
SUMMARY:Music Bingo
DESCRIPTION:6:45pm to 8:45pm every Monday in the taproom! \n  \nChances for prizes every week!
URL:https://www.cabarrusbrewing.com/event/music-bingo-2/2027-03-15/
LOCATION:Cabarrus Brewing Co.
END:VEVENT
BEGIN:VEVENT
DTSTART;TZID=UTC:20270316T190000
DTEND;TZID=UTC:20270316T200000
DTSTAMP:20260421T090153
CREATED:20240405T150134Z
LAST-MODIFIED:20240405T150223Z
UID:10001646-1805223600-1805227200@www.cabarrusbrewing.com
SUMMARY:Skyfit Fitness Classes
DESCRIPTION:Get ready for a fun and upbeat fitness dance class lead by Cara\, owner and lead coach of Skyfit CLT. \nAll levels are welcome. Classes will take place in The Kettle Room. \nClass begins at 7:00pm. Please arrive with enough time to park and make your way to the space. Class will conclude by 8:00pm. Swing by the Cabarrus Brewing Taproom for a well-deserved drink & meal! Taproom is open until 10:00pm. \n  \nInstagram: skyfitdancefitness \n$15 for class. Please pay Cara.
URL:https://www.cabarrusbrewing.com/event/skyfit-fitness-classes/2027-03-16/
LOCATION:The Kettle Room
CATEGORIES:Weekly Events
ATTACH;FMTTYPE=image/webp:https://www.cabarrusbrewing.com/wp-content/uploads/2024/04/fx-gs.webp
END:VEVENT
BEGIN:VEVENT
DTSTART;TZID=UTC:20270317T183000
DTEND;TZID=UTC:20270317T210000
DTSTAMP:20260421T090153
CREATED:20260323T194527Z
LAST-MODIFIED:20260325T175902Z
UID:10002895-1805308200-1805317200@www.cabarrusbrewing.com
SUMMARY:Bike Night
DESCRIPTION:Bike Night is back \n\n\n\nJoin us every Wednesday starting April 1st\, 6:30pm-9pm.\n\n\n\nWarm weather\, cold beer\, and good times ahead.\n\n\n\n\n\nProudly supported by Steel Rain MC!
URL:https://www.cabarrusbrewing.com/event/bike-night/2027-03-17/
LOCATION:Cabarrus Brewing Co.
END:VEVENT
BEGIN:VEVENT
DTSTART;TZID=UTC:20270321T110000
DTEND;TZID=UTC:20270321T120000
DTSTAMP:20260421T090153
CREATED:20250109T152442Z
LAST-MODIFIED:20250109T152628Z
UID:10002081-1805626800-1805630400@www.cabarrusbrewing.com
SUMMARY:Sunday Yoga
DESCRIPTION:Grab a friend and your yoga mat and prepare for an hour of relaxation! Class led by Kat Harmon or one of the Sol Harmony Crew members.  All levels welcome. Class will take place in The Kettle Room during colder months & inclement weather. During the warmer months\, class will take place on the loading doc\, just outside the Kettle Room. \nClass begins at 11:00am. Please arrive with enough time to park and make your way to the space. Class will conclude at 12:00pm. Swing by the Cabarrus Brewing Taproom for a well-deserved drink & treat! Open until 8:00pm. \nInstagram @kat_harmon_Itsooy for more information. \n$10.00 for class. Please pay instructor.
URL:https://www.cabarrusbrewing.com/event/yoga-2-2/2027-03-21/
LOCATION:The Kettle Room
CATEGORIES:Weekly Events
ATTACH;FMTTYPE=image/png:https://www.cabarrusbrewing.com/wp-content/uploads/2023/08/yoga-sunday.png
END:VEVENT
BEGIN:VEVENT
DTSTART;TZID=UTC:20270322T184500
DTEND;TZID=UTC:20270322T204500
DTSTAMP:20260421T090153
CREATED:20260119T143242Z
LAST-MODIFIED:20260311T142525Z
UID:10002556-1805741100-1805748300@www.cabarrusbrewing.com
SUMMARY:Music Bingo
DESCRIPTION:6:45pm to 8:45pm every Monday in the taproom! \n  \nChances for prizes every week!
URL:https://www.cabarrusbrewing.com/event/music-bingo-2/2027-03-22/
LOCATION:Cabarrus Brewing Co.
END:VEVENT
BEGIN:VEVENT
DTSTART;TZID=UTC:20270323T190000
DTEND;TZID=UTC:20270323T200000
DTSTAMP:20260421T090153
CREATED:20240405T150134Z
LAST-MODIFIED:20240405T150223Z
UID:10001647-1805828400-1805832000@www.cabarrusbrewing.com
SUMMARY:Skyfit Fitness Classes
DESCRIPTION:Get ready for a fun and upbeat fitness dance class lead by Cara\, owner and lead coach of Skyfit CLT. \nAll levels are welcome. Classes will take place in The Kettle Room. \nClass begins at 7:00pm. Please arrive with enough time to park and make your way to the space. Class will conclude by 8:00pm. Swing by the Cabarrus Brewing Taproom for a well-deserved drink & meal! Taproom is open until 10:00pm. \n  \nInstagram: skyfitdancefitness \n$15 for class. Please pay Cara.
URL:https://www.cabarrusbrewing.com/event/skyfit-fitness-classes/2027-03-23/
LOCATION:The Kettle Room
CATEGORIES:Weekly Events
ATTACH;FMTTYPE=image/webp:https://www.cabarrusbrewing.com/wp-content/uploads/2024/04/fx-gs.webp
END:VEVENT
BEGIN:VEVENT
DTSTART;TZID=UTC:20270324T183000
DTEND;TZID=UTC:20270324T210000
DTSTAMP:20260421T090153
CREATED:20260323T194527Z
LAST-MODIFIED:20260325T175902Z
UID:10002896-1805913000-1805922000@www.cabarrusbrewing.com
SUMMARY:Bike Night
DESCRIPTION:Bike Night is back \n\n\n\nJoin us every Wednesday starting April 1st\, 6:30pm-9pm.\n\n\n\nWarm weather\, cold beer\, and good times ahead.\n\n\n\n\n\nProudly supported by Steel Rain MC!
URL:https://www.cabarrusbrewing.com/event/bike-night/2027-03-24/
LOCATION:Cabarrus Brewing Co.
END:VEVENT
BEGIN:VEVENT
DTSTART;TZID=UTC:20270328T110000
DTEND;TZID=UTC:20270328T120000
DTSTAMP:20260421T090153
CREATED:20250109T152442Z
LAST-MODIFIED:20250109T152628Z
UID:10002082-1806231600-1806235200@www.cabarrusbrewing.com
SUMMARY:Sunday Yoga
DESCRIPTION:Grab a friend and your yoga mat and prepare for an hour of relaxation! Class led by Kat Harmon or one of the Sol Harmony Crew members.  All levels welcome. Class will take place in The Kettle Room during colder months & inclement weather. During the warmer months\, class will take place on the loading doc\, just outside the Kettle Room. \nClass begins at 11:00am. Please arrive with enough time to park and make your way to the space. Class will conclude at 12:00pm. Swing by the Cabarrus Brewing Taproom for a well-deserved drink & treat! Open until 8:00pm. \nInstagram @kat_harmon_Itsooy for more information. \n$10.00 for class. Please pay instructor.
URL:https://www.cabarrusbrewing.com/event/yoga-2-2/2027-03-28/
LOCATION:The Kettle Room
CATEGORIES:Weekly Events
ATTACH;FMTTYPE=image/png:https://www.cabarrusbrewing.com/wp-content/uploads/2023/08/yoga-sunday.png
END:VEVENT
BEGIN:VEVENT
DTSTART;TZID=UTC:20270329T184500
DTEND;TZID=UTC:20270329T204500
DTSTAMP:20260421T090153
CREATED:20260119T143242Z
LAST-MODIFIED:20260311T142525Z
UID:10002557-1806345900-1806353100@www.cabarrusbrewing.com
SUMMARY:Music Bingo
DESCRIPTION:6:45pm to 8:45pm every Monday in the taproom! \n  \nChances for prizes every week!
URL:https://www.cabarrusbrewing.com/event/music-bingo-2/2027-03-29/
LOCATION:Cabarrus Brewing Co.
END:VEVENT
BEGIN:VEVENT
DTSTART;TZID=UTC:20270330T190000
DTEND;TZID=UTC:20270330T200000
DTSTAMP:20260421T090153
CREATED:20240405T150134Z
LAST-MODIFIED:20240405T150223Z
UID:10001648-1806433200-1806436800@www.cabarrusbrewing.com
SUMMARY:Skyfit Fitness Classes
DESCRIPTION:Get ready for a fun and upbeat fitness dance class lead by Cara\, owner and lead coach of Skyfit CLT. \nAll levels are welcome. Classes will take place in The Kettle Room. \nClass begins at 7:00pm. Please arrive with enough time to park and make your way to the space. Class will conclude by 8:00pm. Swing by the Cabarrus Brewing Taproom for a well-deserved drink & meal! Taproom is open until 10:00pm. \n  \nInstagram: skyfitdancefitness \n$15 for class. Please pay Cara.
URL:https://www.cabarrusbrewing.com/event/skyfit-fitness-classes/2027-03-30/
LOCATION:The Kettle Room
CATEGORIES:Weekly Events
ATTACH;FMTTYPE=image/webp:https://www.cabarrusbrewing.com/wp-content/uploads/2024/04/fx-gs.webp
END:VEVENT
BEGIN:VEVENT
DTSTART;TZID=UTC:20270331T183000
DTEND;TZID=UTC:20270331T210000
DTSTAMP:20260421T090153
CREATED:20260323T194527Z
LAST-MODIFIED:20260325T175902Z
UID:10002897-1806517800-1806526800@www.cabarrusbrewing.com
SUMMARY:Bike Night
DESCRIPTION:Bike Night is back \n\n\n\nJoin us every Wednesday starting April 1st\, 6:30pm-9pm.\n\n\n\nWarm weather\, cold beer\, and good times ahead.\n\n\n\n\n\nProudly supported by Steel Rain MC!
URL:https://www.cabarrusbrewing.com/event/bike-night/2027-03-31/
LOCATION:Cabarrus Brewing Co.
END:VEVENT
END:VCALENDAR