BEGIN:VCALENDAR
VERSION:2.0
PRODID:-//Cabarrus Brewing Co. - ECPv6.10.2//NONSGML v1.0//EN
CALSCALE:GREGORIAN
METHOD:PUBLISH
X-ORIGINAL-URL:https://www.cabarrusbrewing.com
X-WR-CALDESC:Events for Cabarrus Brewing Co.
REFRESH-INTERVAL;VALUE=DURATION:PT1H
X-Robots-Tag:noindex
X-PUBLISHED-TTL:PT1H
BEGIN:VTIMEZONE
TZID:UTC
BEGIN:STANDARD
TZOFFSETFROM:+0000
TZOFFSETTO:+0000
TZNAME:UTC
DTSTART:20240101T000000
END:STANDARD
END:VTIMEZONE
BEGIN:VEVENT
DTSTART;TZID=UTC:20240716T190000
DTEND;TZID=UTC:20240716T200000
DTSTAMP:20260422T100847
CREATED:20240405T150134Z
LAST-MODIFIED:20240405T150223Z
UID:10001507-1721156400-1721160000@www.cabarrusbrewing.com
SUMMARY:Skyfit Fitness Classes
DESCRIPTION:Get ready for a fun and upbeat fitness dance class lead by Cara\, owner and lead coach of Skyfit CLT. \nAll levels are welcome. Classes will take place in The Kettle Room. \nClass begins at 7:00pm. Please arrive with enough time to park and make your way to the space. Class will conclude by 8:00pm. Swing by the Cabarrus Brewing Taproom for a well-deserved drink & meal! Taproom is open until 10:00pm. \n  \nInstagram: skyfitdancefitness \n$15 for class. Please pay Cara.
URL:https://www.cabarrusbrewing.com/event/skyfit-fitness-classes/2024-07-16/
LOCATION:The Kettle Room
CATEGORIES:Weekly Events
ATTACH;FMTTYPE=image/webp:https://www.cabarrusbrewing.com/wp-content/uploads/2024/04/fx-gs.webp
END:VEVENT
BEGIN:VEVENT
DTSTART;TZID=UTC:20240711T183000
DTEND;TZID=UTC:20240711T203000
DTSTAMP:20260422T100847
CREATED:20231102T215126Z
LAST-MODIFIED:20240730T143906Z
UID:10001922-1720722600-1720729800@www.cabarrusbrewing.com
SUMMARY:Run Club
DESCRIPTION:FREE: Meets on the Patio at 6:00pm
URL:https://www.cabarrusbrewing.com/event/cbc-run-club-2/2024-07-11/
LOCATION:The Patio
CATEGORIES:Weekly Events
ATTACH;FMTTYPE=image/png:https://www.cabarrusbrewing.com/wp-content/uploads/2023/08/cbc-run-club-1.png
END:VEVENT
BEGIN:VEVENT
DTSTART;TZID=UTC:20240709T190000
DTEND;TZID=UTC:20240709T200000
DTSTAMP:20260422T100847
CREATED:20240405T150134Z
LAST-MODIFIED:20240405T150223Z
UID:10001506-1720551600-1720555200@www.cabarrusbrewing.com
SUMMARY:Skyfit Fitness Classes
DESCRIPTION:Get ready for a fun and upbeat fitness dance class lead by Cara\, owner and lead coach of Skyfit CLT. \nAll levels are welcome. Classes will take place in The Kettle Room. \nClass begins at 7:00pm. Please arrive with enough time to park and make your way to the space. Class will conclude by 8:00pm. Swing by the Cabarrus Brewing Taproom for a well-deserved drink & meal! Taproom is open until 10:00pm. \n  \nInstagram: skyfitdancefitness \n$15 for class. Please pay Cara.
URL:https://www.cabarrusbrewing.com/event/skyfit-fitness-classes/2024-07-09/
LOCATION:The Kettle Room
CATEGORIES:Weekly Events
ATTACH;FMTTYPE=image/webp:https://www.cabarrusbrewing.com/wp-content/uploads/2024/04/fx-gs.webp
END:VEVENT
BEGIN:VEVENT
DTSTART;TZID=UTC:20240704T183000
DTEND;TZID=UTC:20240704T203000
DTSTAMP:20260422T100847
CREATED:20231102T215126Z
LAST-MODIFIED:20240730T143906Z
UID:10001921-1720117800-1720125000@www.cabarrusbrewing.com
SUMMARY:Run Club
DESCRIPTION:FREE: Meets on the Patio at 6:00pm
URL:https://www.cabarrusbrewing.com/event/cbc-run-club-2/2024-07-04/
LOCATION:The Patio
CATEGORIES:Weekly Events
ATTACH;FMTTYPE=image/png:https://www.cabarrusbrewing.com/wp-content/uploads/2023/08/cbc-run-club-1.png
END:VEVENT
BEGIN:VEVENT
DTSTART;TZID=UTC:20240702T190000
DTEND;TZID=UTC:20240702T200000
DTSTAMP:20260422T100847
CREATED:20240405T150134Z
LAST-MODIFIED:20240405T150223Z
UID:10001505-1719946800-1719950400@www.cabarrusbrewing.com
SUMMARY:Skyfit Fitness Classes
DESCRIPTION:Get ready for a fun and upbeat fitness dance class lead by Cara\, owner and lead coach of Skyfit CLT. \nAll levels are welcome. Classes will take place in The Kettle Room. \nClass begins at 7:00pm. Please arrive with enough time to park and make your way to the space. Class will conclude by 8:00pm. Swing by the Cabarrus Brewing Taproom for a well-deserved drink & meal! Taproom is open until 10:00pm. \n  \nInstagram: skyfitdancefitness \n$15 for class. Please pay Cara.
URL:https://www.cabarrusbrewing.com/event/skyfit-fitness-classes/2024-07-02/
LOCATION:The Kettle Room
CATEGORIES:Weekly Events
ATTACH;FMTTYPE=image/webp:https://www.cabarrusbrewing.com/wp-content/uploads/2024/04/fx-gs.webp
END:VEVENT
BEGIN:VEVENT
DTSTART;TZID=UTC:20240627T183000
DTEND;TZID=UTC:20240627T203000
DTSTAMP:20260422T100847
CREATED:20231102T215126Z
LAST-MODIFIED:20240730T143906Z
UID:10001920-1719513000-1719520200@www.cabarrusbrewing.com
SUMMARY:Run Club
DESCRIPTION:FREE: Meets on the Patio at 6:00pm
URL:https://www.cabarrusbrewing.com/event/cbc-run-club-2/2024-06-27/
LOCATION:The Patio
CATEGORIES:Weekly Events
ATTACH;FMTTYPE=image/png:https://www.cabarrusbrewing.com/wp-content/uploads/2023/08/cbc-run-club-1.png
END:VEVENT
BEGIN:VEVENT
DTSTART;TZID=UTC:20240625T190000
DTEND;TZID=UTC:20240625T200000
DTSTAMP:20260422T100847
CREATED:20240405T150134Z
LAST-MODIFIED:20240405T150223Z
UID:10001504-1719342000-1719345600@www.cabarrusbrewing.com
SUMMARY:Skyfit Fitness Classes
DESCRIPTION:Get ready for a fun and upbeat fitness dance class lead by Cara\, owner and lead coach of Skyfit CLT. \nAll levels are welcome. Classes will take place in The Kettle Room. \nClass begins at 7:00pm. Please arrive with enough time to park and make your way to the space. Class will conclude by 8:00pm. Swing by the Cabarrus Brewing Taproom for a well-deserved drink & meal! Taproom is open until 10:00pm. \n  \nInstagram: skyfitdancefitness \n$15 for class. Please pay Cara.
URL:https://www.cabarrusbrewing.com/event/skyfit-fitness-classes/2024-06-25/
LOCATION:The Kettle Room
CATEGORIES:Weekly Events
ATTACH;FMTTYPE=image/webp:https://www.cabarrusbrewing.com/wp-content/uploads/2024/04/fx-gs.webp
END:VEVENT
BEGIN:VEVENT
DTSTART;TZID=UTC:20240620T183000
DTEND;TZID=UTC:20240620T203000
DTSTAMP:20260422T100847
CREATED:20231102T215126Z
LAST-MODIFIED:20240730T143906Z
UID:10001919-1718908200-1718915400@www.cabarrusbrewing.com
SUMMARY:Run Club
DESCRIPTION:FREE: Meets on the Patio at 6:00pm
URL:https://www.cabarrusbrewing.com/event/cbc-run-club-2/2024-06-20/
LOCATION:The Patio
CATEGORIES:Weekly Events
ATTACH;FMTTYPE=image/png:https://www.cabarrusbrewing.com/wp-content/uploads/2023/08/cbc-run-club-1.png
END:VEVENT
BEGIN:VEVENT
DTSTART;TZID=UTC:20240618T190000
DTEND;TZID=UTC:20240618T200000
DTSTAMP:20260422T100847
CREATED:20240405T150134Z
LAST-MODIFIED:20240405T150223Z
UID:10001503-1718737200-1718740800@www.cabarrusbrewing.com
SUMMARY:Skyfit Fitness Classes
DESCRIPTION:Get ready for a fun and upbeat fitness dance class lead by Cara\, owner and lead coach of Skyfit CLT. \nAll levels are welcome. Classes will take place in The Kettle Room. \nClass begins at 7:00pm. Please arrive with enough time to park and make your way to the space. Class will conclude by 8:00pm. Swing by the Cabarrus Brewing Taproom for a well-deserved drink & meal! Taproom is open until 10:00pm. \n  \nInstagram: skyfitdancefitness \n$15 for class. Please pay Cara.
URL:https://www.cabarrusbrewing.com/event/skyfit-fitness-classes/2024-06-18/
LOCATION:The Kettle Room
CATEGORIES:Weekly Events
ATTACH;FMTTYPE=image/webp:https://www.cabarrusbrewing.com/wp-content/uploads/2024/04/fx-gs.webp
END:VEVENT
BEGIN:VEVENT
DTSTART;TZID=UTC:20240613T183000
DTEND;TZID=UTC:20240613T203000
DTSTAMP:20260422T100847
CREATED:20231102T215126Z
LAST-MODIFIED:20240730T143906Z
UID:10001918-1718303400-1718310600@www.cabarrusbrewing.com
SUMMARY:Run Club
DESCRIPTION:FREE: Meets on the Patio at 6:00pm
URL:https://www.cabarrusbrewing.com/event/cbc-run-club-2/2024-06-13/
LOCATION:The Patio
CATEGORIES:Weekly Events
ATTACH;FMTTYPE=image/png:https://www.cabarrusbrewing.com/wp-content/uploads/2023/08/cbc-run-club-1.png
END:VEVENT
BEGIN:VEVENT
DTSTART;TZID=UTC:20240611T190000
DTEND;TZID=UTC:20240611T200000
DTSTAMP:20260422T100847
CREATED:20240405T150134Z
LAST-MODIFIED:20240405T150223Z
UID:10001502-1718132400-1718136000@www.cabarrusbrewing.com
SUMMARY:Skyfit Fitness Classes
DESCRIPTION:Get ready for a fun and upbeat fitness dance class lead by Cara\, owner and lead coach of Skyfit CLT. \nAll levels are welcome. Classes will take place in The Kettle Room. \nClass begins at 7:00pm. Please arrive with enough time to park and make your way to the space. Class will conclude by 8:00pm. Swing by the Cabarrus Brewing Taproom for a well-deserved drink & meal! Taproom is open until 10:00pm. \n  \nInstagram: skyfitdancefitness \n$15 for class. Please pay Cara.
URL:https://www.cabarrusbrewing.com/event/skyfit-fitness-classes/2024-06-11/
LOCATION:The Kettle Room
CATEGORIES:Weekly Events
ATTACH;FMTTYPE=image/webp:https://www.cabarrusbrewing.com/wp-content/uploads/2024/04/fx-gs.webp
END:VEVENT
BEGIN:VEVENT
DTSTART;TZID=UTC:20240606T183000
DTEND;TZID=UTC:20240606T203000
DTSTAMP:20260422T100847
CREATED:20231102T215126Z
LAST-MODIFIED:20240730T143906Z
UID:10001917-1717698600-1717705800@www.cabarrusbrewing.com
SUMMARY:Run Club
DESCRIPTION:FREE: Meets on the Patio at 6:00pm
URL:https://www.cabarrusbrewing.com/event/cbc-run-club-2/2024-06-06/
LOCATION:The Patio
CATEGORIES:Weekly Events
ATTACH;FMTTYPE=image/png:https://www.cabarrusbrewing.com/wp-content/uploads/2023/08/cbc-run-club-1.png
END:VEVENT
BEGIN:VEVENT
DTSTART;TZID=UTC:20240604T190000
DTEND;TZID=UTC:20240604T200000
DTSTAMP:20260422T100847
CREATED:20240405T150134Z
LAST-MODIFIED:20240405T150223Z
UID:10001501-1717527600-1717531200@www.cabarrusbrewing.com
SUMMARY:Skyfit Fitness Classes
DESCRIPTION:Get ready for a fun and upbeat fitness dance class lead by Cara\, owner and lead coach of Skyfit CLT. \nAll levels are welcome. Classes will take place in The Kettle Room. \nClass begins at 7:00pm. Please arrive with enough time to park and make your way to the space. Class will conclude by 8:00pm. Swing by the Cabarrus Brewing Taproom for a well-deserved drink & meal! Taproom is open until 10:00pm. \n  \nInstagram: skyfitdancefitness \n$15 for class. Please pay Cara.
URL:https://www.cabarrusbrewing.com/event/skyfit-fitness-classes/2024-06-04/
LOCATION:The Kettle Room
CATEGORIES:Weekly Events
ATTACH;FMTTYPE=image/webp:https://www.cabarrusbrewing.com/wp-content/uploads/2024/04/fx-gs.webp
END:VEVENT
BEGIN:VEVENT
DTSTART;TZID=UTC:20240530T183000
DTEND;TZID=UTC:20240530T203000
DTSTAMP:20260422T100847
CREATED:20231102T215126Z
LAST-MODIFIED:20240730T143906Z
UID:10001916-1717093800-1717101000@www.cabarrusbrewing.com
SUMMARY:Run Club
DESCRIPTION:FREE: Meets on the Patio at 6:00pm
URL:https://www.cabarrusbrewing.com/event/cbc-run-club-2/2024-05-30/
LOCATION:The Patio
CATEGORIES:Weekly Events
ATTACH;FMTTYPE=image/png:https://www.cabarrusbrewing.com/wp-content/uploads/2023/08/cbc-run-club-1.png
END:VEVENT
BEGIN:VEVENT
DTSTART;TZID=UTC:20240528T190000
DTEND;TZID=UTC:20240528T200000
DTSTAMP:20260422T100847
CREATED:20240405T150134Z
LAST-MODIFIED:20240405T150223Z
UID:10001500-1716922800-1716926400@www.cabarrusbrewing.com
SUMMARY:Skyfit Fitness Classes
DESCRIPTION:Get ready for a fun and upbeat fitness dance class lead by Cara\, owner and lead coach of Skyfit CLT. \nAll levels are welcome. Classes will take place in The Kettle Room. \nClass begins at 7:00pm. Please arrive with enough time to park and make your way to the space. Class will conclude by 8:00pm. Swing by the Cabarrus Brewing Taproom for a well-deserved drink & meal! Taproom is open until 10:00pm. \n  \nInstagram: skyfitdancefitness \n$15 for class. Please pay Cara.
URL:https://www.cabarrusbrewing.com/event/skyfit-fitness-classes/2024-05-28/
LOCATION:The Kettle Room
CATEGORIES:Weekly Events
ATTACH;FMTTYPE=image/webp:https://www.cabarrusbrewing.com/wp-content/uploads/2024/04/fx-gs.webp
END:VEVENT
BEGIN:VEVENT
DTSTART;TZID=UTC:20240523T183000
DTEND;TZID=UTC:20240523T203000
DTSTAMP:20260422T100847
CREATED:20231102T215126Z
LAST-MODIFIED:20240730T143906Z
UID:10001915-1716489000-1716496200@www.cabarrusbrewing.com
SUMMARY:Run Club
DESCRIPTION:FREE: Meets on the Patio at 6:00pm
URL:https://www.cabarrusbrewing.com/event/cbc-run-club-2/2024-05-23/
LOCATION:The Patio
CATEGORIES:Weekly Events
ATTACH;FMTTYPE=image/png:https://www.cabarrusbrewing.com/wp-content/uploads/2023/08/cbc-run-club-1.png
END:VEVENT
BEGIN:VEVENT
DTSTART;TZID=UTC:20240521T190000
DTEND;TZID=UTC:20240521T200000
DTSTAMP:20260422T100847
CREATED:20240405T150134Z
LAST-MODIFIED:20240405T150223Z
UID:10001499-1716318000-1716321600@www.cabarrusbrewing.com
SUMMARY:Skyfit Fitness Classes
DESCRIPTION:Get ready for a fun and upbeat fitness dance class lead by Cara\, owner and lead coach of Skyfit CLT. \nAll levels are welcome. Classes will take place in The Kettle Room. \nClass begins at 7:00pm. Please arrive with enough time to park and make your way to the space. Class will conclude by 8:00pm. Swing by the Cabarrus Brewing Taproom for a well-deserved drink & meal! Taproom is open until 10:00pm. \n  \nInstagram: skyfitdancefitness \n$15 for class. Please pay Cara.
URL:https://www.cabarrusbrewing.com/event/skyfit-fitness-classes/2024-05-21/
LOCATION:The Kettle Room
CATEGORIES:Weekly Events
ATTACH;FMTTYPE=image/webp:https://www.cabarrusbrewing.com/wp-content/uploads/2024/04/fx-gs.webp
END:VEVENT
BEGIN:VEVENT
DTSTART;TZID=UTC:20240516T183000
DTEND;TZID=UTC:20240516T203000
DTSTAMP:20260422T100847
CREATED:20231102T215126Z
LAST-MODIFIED:20240730T143906Z
UID:10001914-1715884200-1715891400@www.cabarrusbrewing.com
SUMMARY:Run Club
DESCRIPTION:FREE: Meets on the Patio at 6:00pm
URL:https://www.cabarrusbrewing.com/event/cbc-run-club-2/2024-05-16/
LOCATION:The Patio
CATEGORIES:Weekly Events
ATTACH;FMTTYPE=image/png:https://www.cabarrusbrewing.com/wp-content/uploads/2023/08/cbc-run-club-1.png
END:VEVENT
BEGIN:VEVENT
DTSTART;TZID=UTC:20240514T190000
DTEND;TZID=UTC:20240514T200000
DTSTAMP:20260422T100847
CREATED:20240405T150134Z
LAST-MODIFIED:20240405T150223Z
UID:10001498-1715713200-1715716800@www.cabarrusbrewing.com
SUMMARY:Skyfit Fitness Classes
DESCRIPTION:Get ready for a fun and upbeat fitness dance class lead by Cara\, owner and lead coach of Skyfit CLT. \nAll levels are welcome. Classes will take place in The Kettle Room. \nClass begins at 7:00pm. Please arrive with enough time to park and make your way to the space. Class will conclude by 8:00pm. Swing by the Cabarrus Brewing Taproom for a well-deserved drink & meal! Taproom is open until 10:00pm. \n  \nInstagram: skyfitdancefitness \n$15 for class. Please pay Cara.
URL:https://www.cabarrusbrewing.com/event/skyfit-fitness-classes/2024-05-14/
LOCATION:The Kettle Room
CATEGORIES:Weekly Events
ATTACH;FMTTYPE=image/webp:https://www.cabarrusbrewing.com/wp-content/uploads/2024/04/fx-gs.webp
END:VEVENT
BEGIN:VEVENT
DTSTART;TZID=UTC:20240509T183000
DTEND;TZID=UTC:20240509T203000
DTSTAMP:20260422T100847
CREATED:20231102T215126Z
LAST-MODIFIED:20240730T143906Z
UID:10001913-1715279400-1715286600@www.cabarrusbrewing.com
SUMMARY:Run Club
DESCRIPTION:FREE: Meets on the Patio at 6:00pm
URL:https://www.cabarrusbrewing.com/event/cbc-run-club-2/2024-05-09/
LOCATION:The Patio
CATEGORIES:Weekly Events
ATTACH;FMTTYPE=image/png:https://www.cabarrusbrewing.com/wp-content/uploads/2023/08/cbc-run-club-1.png
END:VEVENT
BEGIN:VEVENT
DTSTART;TZID=UTC:20240507T190000
DTEND;TZID=UTC:20240507T200000
DTSTAMP:20260422T100847
CREATED:20240405T150134Z
LAST-MODIFIED:20240405T150223Z
UID:10001497-1715108400-1715112000@www.cabarrusbrewing.com
SUMMARY:Skyfit Fitness Classes
DESCRIPTION:Get ready for a fun and upbeat fitness dance class lead by Cara\, owner and lead coach of Skyfit CLT. \nAll levels are welcome. Classes will take place in The Kettle Room. \nClass begins at 7:00pm. Please arrive with enough time to park and make your way to the space. Class will conclude by 8:00pm. Swing by the Cabarrus Brewing Taproom for a well-deserved drink & meal! Taproom is open until 10:00pm. \n  \nInstagram: skyfitdancefitness \n$15 for class. Please pay Cara.
URL:https://www.cabarrusbrewing.com/event/skyfit-fitness-classes/2024-05-07/
LOCATION:The Kettle Room
CATEGORIES:Weekly Events
ATTACH;FMTTYPE=image/webp:https://www.cabarrusbrewing.com/wp-content/uploads/2024/04/fx-gs.webp
END:VEVENT
BEGIN:VEVENT
DTSTART;TZID=UTC:20240502T183000
DTEND;TZID=UTC:20240502T203000
DTSTAMP:20260422T100847
CREATED:20231102T215126Z
LAST-MODIFIED:20240730T143906Z
UID:10001912-1714674600-1714681800@www.cabarrusbrewing.com
SUMMARY:Run Club
DESCRIPTION:FREE: Meets on the Patio at 6:00pm
URL:https://www.cabarrusbrewing.com/event/cbc-run-club-2/2024-05-02/
LOCATION:The Patio
CATEGORIES:Weekly Events
ATTACH;FMTTYPE=image/png:https://www.cabarrusbrewing.com/wp-content/uploads/2023/08/cbc-run-club-1.png
END:VEVENT
BEGIN:VEVENT
DTSTART;TZID=UTC:20240430T190000
DTEND;TZID=UTC:20240430T200000
DTSTAMP:20260422T100847
CREATED:20240405T150134Z
LAST-MODIFIED:20240405T150223Z
UID:10001496-1714503600-1714507200@www.cabarrusbrewing.com
SUMMARY:Skyfit Fitness Classes
DESCRIPTION:Get ready for a fun and upbeat fitness dance class lead by Cara\, owner and lead coach of Skyfit CLT. \nAll levels are welcome. Classes will take place in The Kettle Room. \nClass begins at 7:00pm. Please arrive with enough time to park and make your way to the space. Class will conclude by 8:00pm. Swing by the Cabarrus Brewing Taproom for a well-deserved drink & meal! Taproom is open until 10:00pm. \n  \nInstagram: skyfitdancefitness \n$15 for class. Please pay Cara.
URL:https://www.cabarrusbrewing.com/event/skyfit-fitness-classes/2024-04-30/
LOCATION:The Kettle Room
CATEGORIES:Weekly Events
ATTACH;FMTTYPE=image/webp:https://www.cabarrusbrewing.com/wp-content/uploads/2024/04/fx-gs.webp
END:VEVENT
BEGIN:VEVENT
DTSTART;TZID=UTC:20240425T183000
DTEND;TZID=UTC:20240425T203000
DTSTAMP:20260422T100847
CREATED:20231102T215126Z
LAST-MODIFIED:20240730T143906Z
UID:10001911-1714069800-1714077000@www.cabarrusbrewing.com
SUMMARY:Run Club
DESCRIPTION:FREE: Meets on the Patio at 6:00pm
URL:https://www.cabarrusbrewing.com/event/cbc-run-club-2/2024-04-25/
LOCATION:The Patio
CATEGORIES:Weekly Events
ATTACH;FMTTYPE=image/png:https://www.cabarrusbrewing.com/wp-content/uploads/2023/08/cbc-run-club-1.png
END:VEVENT
BEGIN:VEVENT
DTSTART;TZID=UTC:20240423T190000
DTEND;TZID=UTC:20240423T200000
DTSTAMP:20260422T100847
CREATED:20240405T150134Z
LAST-MODIFIED:20240405T150223Z
UID:10001495-1713898800-1713902400@www.cabarrusbrewing.com
SUMMARY:Skyfit Fitness Classes
DESCRIPTION:Get ready for a fun and upbeat fitness dance class lead by Cara\, owner and lead coach of Skyfit CLT. \nAll levels are welcome. Classes will take place in The Kettle Room. \nClass begins at 7:00pm. Please arrive with enough time to park and make your way to the space. Class will conclude by 8:00pm. Swing by the Cabarrus Brewing Taproom for a well-deserved drink & meal! Taproom is open until 10:00pm. \n  \nInstagram: skyfitdancefitness \n$15 for class. Please pay Cara.
URL:https://www.cabarrusbrewing.com/event/skyfit-fitness-classes/2024-04-23/
LOCATION:The Kettle Room
CATEGORIES:Weekly Events
ATTACH;FMTTYPE=image/webp:https://www.cabarrusbrewing.com/wp-content/uploads/2024/04/fx-gs.webp
END:VEVENT
BEGIN:VEVENT
DTSTART;TZID=UTC:20240418T183000
DTEND;TZID=UTC:20240418T203000
DTSTAMP:20260422T100847
CREATED:20231102T215126Z
LAST-MODIFIED:20240730T143906Z
UID:10001910-1713465000-1713472200@www.cabarrusbrewing.com
SUMMARY:Run Club
DESCRIPTION:FREE: Meets on the Patio at 6:00pm
URL:https://www.cabarrusbrewing.com/event/cbc-run-club-2/2024-04-18/
LOCATION:The Patio
CATEGORIES:Weekly Events
ATTACH;FMTTYPE=image/png:https://www.cabarrusbrewing.com/wp-content/uploads/2023/08/cbc-run-club-1.png
END:VEVENT
BEGIN:VEVENT
DTSTART;TZID=UTC:20240416T190000
DTEND;TZID=UTC:20240416T200000
DTSTAMP:20260422T100847
CREATED:20240405T150134Z
LAST-MODIFIED:20240405T150223Z
UID:10001494-1713294000-1713297600@www.cabarrusbrewing.com
SUMMARY:Skyfit Fitness Classes
DESCRIPTION:Get ready for a fun and upbeat fitness dance class lead by Cara\, owner and lead coach of Skyfit CLT. \nAll levels are welcome. Classes will take place in The Kettle Room. \nClass begins at 7:00pm. Please arrive with enough time to park and make your way to the space. Class will conclude by 8:00pm. Swing by the Cabarrus Brewing Taproom for a well-deserved drink & meal! Taproom is open until 10:00pm. \n  \nInstagram: skyfitdancefitness \n$15 for class. Please pay Cara.
URL:https://www.cabarrusbrewing.com/event/skyfit-fitness-classes/2024-04-16/
LOCATION:The Kettle Room
CATEGORIES:Weekly Events
ATTACH;FMTTYPE=image/webp:https://www.cabarrusbrewing.com/wp-content/uploads/2024/04/fx-gs.webp
END:VEVENT
BEGIN:VEVENT
DTSTART;TZID=UTC:20240411T183000
DTEND;TZID=UTC:20240411T203000
DTSTAMP:20260422T100847
CREATED:20231102T215126Z
LAST-MODIFIED:20240730T143906Z
UID:10001909-1712860200-1712867400@www.cabarrusbrewing.com
SUMMARY:Run Club
DESCRIPTION:FREE: Meets on the Patio at 6:00pm
URL:https://www.cabarrusbrewing.com/event/cbc-run-club-2/2024-04-11/
LOCATION:The Patio
CATEGORIES:Weekly Events
ATTACH;FMTTYPE=image/png:https://www.cabarrusbrewing.com/wp-content/uploads/2023/08/cbc-run-club-1.png
END:VEVENT
BEGIN:VEVENT
DTSTART;TZID=UTC:20240409T190000
DTEND;TZID=UTC:20240409T200000
DTSTAMP:20260422T100847
CREATED:20240405T150134Z
LAST-MODIFIED:20240405T150223Z
UID:10001493-1712689200-1712692800@www.cabarrusbrewing.com
SUMMARY:Skyfit Fitness Classes
DESCRIPTION:Get ready for a fun and upbeat fitness dance class lead by Cara\, owner and lead coach of Skyfit CLT. \nAll levels are welcome. Classes will take place in The Kettle Room. \nClass begins at 7:00pm. Please arrive with enough time to park and make your way to the space. Class will conclude by 8:00pm. Swing by the Cabarrus Brewing Taproom for a well-deserved drink & meal! Taproom is open until 10:00pm. \n  \nInstagram: skyfitdancefitness \n$15 for class. Please pay Cara.
URL:https://www.cabarrusbrewing.com/event/skyfit-fitness-classes/2024-04-09/
LOCATION:The Kettle Room
CATEGORIES:Weekly Events
ATTACH;FMTTYPE=image/webp:https://www.cabarrusbrewing.com/wp-content/uploads/2024/04/fx-gs.webp
END:VEVENT
BEGIN:VEVENT
DTSTART;TZID=UTC:20240404T183000
DTEND;TZID=UTC:20240404T203000
DTSTAMP:20260422T100847
CREATED:20231102T215126Z
LAST-MODIFIED:20240730T143906Z
UID:10001908-1712255400-1712262600@www.cabarrusbrewing.com
SUMMARY:Run Club
DESCRIPTION:FREE: Meets on the Patio at 6:00pm
URL:https://www.cabarrusbrewing.com/event/cbc-run-club-2/2024-04-04/
LOCATION:The Patio
CATEGORIES:Weekly Events
ATTACH;FMTTYPE=image/png:https://www.cabarrusbrewing.com/wp-content/uploads/2023/08/cbc-run-club-1.png
END:VEVENT
END:VCALENDAR