BEGIN:VCALENDAR
VERSION:2.0
PRODID:-//Cabarrus Brewing Co. - ECPv6.10.2//NONSGML v1.0//EN
CALSCALE:GREGORIAN
METHOD:PUBLISH
X-ORIGINAL-URL:https://www.cabarrusbrewing.com
X-WR-CALDESC:Events for Cabarrus Brewing Co.
REFRESH-INTERVAL;VALUE=DURATION:PT1H
X-Robots-Tag:noindex
X-PUBLISHED-TTL:PT1H
BEGIN:VTIMEZONE
TZID:UTC
BEGIN:STANDARD
TZOFFSETFROM:+0000
TZOFFSETTO:+0000
TZNAME:UTC
DTSTART:20240101T000000
END:STANDARD
END:VTIMEZONE
BEGIN:VEVENT
DTSTART;TZID=UTC:20240307T183000
DTEND;TZID=UTC:20240307T203000
DTSTAMP:20260423T070727
CREATED:20231102T215126Z
LAST-MODIFIED:20240730T143906Z
UID:10001904-1709836200-1709843400@www.cabarrusbrewing.com
SUMMARY:Run Club
DESCRIPTION:FREE: Meets on the Patio at 6:00pm
URL:https://www.cabarrusbrewing.com/event/cbc-run-club-2/2024-03-07/
LOCATION:The Patio
CATEGORIES:Weekly Events
ATTACH;FMTTYPE=image/png:https://www.cabarrusbrewing.com/wp-content/uploads/2023/08/cbc-run-club-1.png
END:VEVENT
BEGIN:VEVENT
DTSTART;TZID=UTC:20240314T183000
DTEND;TZID=UTC:20240314T203000
DTSTAMP:20260423T070727
CREATED:20231102T215126Z
LAST-MODIFIED:20240730T143906Z
UID:10001905-1710441000-1710448200@www.cabarrusbrewing.com
SUMMARY:Run Club
DESCRIPTION:FREE: Meets on the Patio at 6:00pm
URL:https://www.cabarrusbrewing.com/event/cbc-run-club-2/2024-03-14/
LOCATION:The Patio
CATEGORIES:Weekly Events
ATTACH;FMTTYPE=image/png:https://www.cabarrusbrewing.com/wp-content/uploads/2023/08/cbc-run-club-1.png
END:VEVENT
BEGIN:VEVENT
DTSTART;TZID=UTC:20240321T183000
DTEND;TZID=UTC:20240321T203000
DTSTAMP:20260423T070727
CREATED:20231102T215126Z
LAST-MODIFIED:20240730T143906Z
UID:10001906-1711045800-1711053000@www.cabarrusbrewing.com
SUMMARY:Run Club
DESCRIPTION:FREE: Meets on the Patio at 6:00pm
URL:https://www.cabarrusbrewing.com/event/cbc-run-club-2/2024-03-21/
LOCATION:The Patio
CATEGORIES:Weekly Events
ATTACH;FMTTYPE=image/png:https://www.cabarrusbrewing.com/wp-content/uploads/2023/08/cbc-run-club-1.png
END:VEVENT
BEGIN:VEVENT
DTSTART;TZID=UTC:20240328T183000
DTEND;TZID=UTC:20240328T203000
DTSTAMP:20260423T070727
CREATED:20231102T215126Z
LAST-MODIFIED:20240730T143906Z
UID:10001907-1711650600-1711657800@www.cabarrusbrewing.com
SUMMARY:Run Club
DESCRIPTION:FREE: Meets on the Patio at 6:00pm
URL:https://www.cabarrusbrewing.com/event/cbc-run-club-2/2024-03-28/
LOCATION:The Patio
CATEGORIES:Weekly Events
ATTACH;FMTTYPE=image/png:https://www.cabarrusbrewing.com/wp-content/uploads/2023/08/cbc-run-club-1.png
END:VEVENT
END:VCALENDAR