BEGIN:VCALENDAR
VERSION:2.0
PRODID:-//Cabarrus Brewing Co. - ECPv6.10.2//NONSGML v1.0//EN
CALSCALE:GREGORIAN
METHOD:PUBLISH
X-WR-CALNAME:Cabarrus Brewing Co.
X-ORIGINAL-URL:https://www.cabarrusbrewing.com
X-WR-CALDESC:Events for Cabarrus Brewing Co.
REFRESH-INTERVAL;VALUE=DURATION:PT1H
X-Robots-Tag:noindex
X-PUBLISHED-TTL:PT1H
BEGIN:VTIMEZONE
TZID:UTC
BEGIN:STANDARD
TZOFFSETFROM:+0000
TZOFFSETTO:+0000
TZNAME:UTC
DTSTART:20240101T000000
END:STANDARD
END:VTIMEZONE
BEGIN:VEVENT
DTSTART;TZID=UTC:20240906T190000
DTEND;TZID=UTC:20240906T230000
DTSTAMP:20260421T160712
CREATED:20240411T143704Z
LAST-MODIFIED:20240411T143837Z
UID:10001757-1725649200-1725663600@www.cabarrusbrewing.com
SUMMARY:Sam Burchfield & The Scoundrels Live at CBC
DESCRIPTION:  \nSam Burchfield & The Scoundrels join us at Cabarrus Brewing Company for this FREE concert on September 6th at 7pm!\nSam Burchfield was raised in the foothills of the Blue Ridge Mountains of South Carolina\, where he learned to play and learned to write. His youth was steeped in the mossy creeks and deep ravines of those ancient woods\, and they imbued him with the gift of song. Now in his thirties\, Burchfield raises a small family in the North Georgia mountains and continues to find inspiration in the rivers and ridges of Southern Appalachia.\nHis latest album ‘Me & My Religion’ was produced with his touring band\, The Scoundrels. It is the first collaboration for the group after years of paying dues to the highway. Colin Agnew (drums)\, Trygve Myers (bass)\, and Ryan Plumley (guitar) accompanied Burchfield to Muscle Shoals\, Alabama along with Nashville producer\, Rachael Moore\, to record the album of 7 days.\n“It’s certainly the most upbeat record I’ve ever released\,” reflects Burchfield. “We crafted many of the songs together on countless stages\, and most were then tracked live in the studio\, which just felt right.”\nThis 10 track album is almost equal parts Americana\, psychedelia\, indie folk\, and Southern rock. All these flavors combine to support the album’s main theme. As seasoned listeners will expect\, Burchfield’s lyrics are far from on the nose\, as the declarative title would suggest. ‘Me & My Religion’ is an exploration of mankind’s toil for meaning in a world of vapid consumerism and commercialism – one in which we have become deaf to our own harmony with nature. Despite the weight of these ideas\, the album feels like a lighthearted sojourn through the backwoods of our imagination.
URL:https://www.cabarrusbrewing.com/event/sam-burchfield-the-scoundrels-live-at-cbc/
LOCATION:Cabarrus Brewing Co.
CATEGORIES:Live Music,Summer Concert Series
END:VEVENT
END:VCALENDAR